BEGIN:VCALENDAR
VERSION:2.0
PRODID:-//Gregory Burrus Productions - ECPv6.15.20//NONSGML v1.0//EN
CALSCALE:GREGORIAN
METHOD:PUBLISH
X-ORIGINAL-URL:https://gregoryburrusproductions.com
X-WR-CALDESC:Events for Gregory Burrus Productions
REFRESH-INTERVAL;VALUE=DURATION:PT1H
X-Robots-Tag:noindex
X-PUBLISHED-TTL:PT1H
BEGIN:VTIMEZONE
TZID:America/New_York
BEGIN:DAYLIGHT
TZOFFSETFROM:-0500
TZOFFSETTO:-0400
TZNAME:EDT
DTSTART:20240310T070000
END:DAYLIGHT
BEGIN:STANDARD
TZOFFSETFROM:-0400
TZOFFSETTO:-0500
TZNAME:EST
DTSTART:20241103T060000
END:STANDARD
BEGIN:DAYLIGHT
TZOFFSETFROM:-0500
TZOFFSETTO:-0400
TZNAME:EDT
DTSTART:20250309T070000
END:DAYLIGHT
BEGIN:STANDARD
TZOFFSETFROM:-0400
TZOFFSETTO:-0500
TZNAME:EST
DTSTART:20251102T060000
END:STANDARD
BEGIN:DAYLIGHT
TZOFFSETFROM:-0500
TZOFFSETTO:-0400
TZNAME:EDT
DTSTART:20260308T070000
END:DAYLIGHT
BEGIN:STANDARD
TZOFFSETFROM:-0400
TZOFFSETTO:-0500
TZNAME:EST
DTSTART:20261101T060000
END:STANDARD
END:VTIMEZONE
BEGIN:VEVENT
DTSTART;TZID=America/New_York:20250503T180000
DTEND;TZID=America/New_York:20250503T193000
DTSTAMP:20260425T202645
CREATED:20250428T171515Z
LAST-MODIFIED:20250428T171518Z
UID:10002420-1746295200-1746300600@gregoryburrusproductions.com
SUMMARY:Arturo O'farrill in Bethany Jazz Vespers
DESCRIPTION:Join us at Bethany Baptist Church for this free concert combining jazz music and worship. \n\n\n\n\n\nOur featured artist in May is pianist Arturo O’Farrill\, a familiar face to NJPAC jazz audiences. Born in Mexico and raised in New York\, the six-time GRAMMY® winner is a prolific musician\, composer and passionate promoter of Latin music and its cultural heritage. He plays with bands and orchestras all over the world\, including his own Afro Latin Jazz Orchestra and the Arturo O’Farrill Sextet. DownBeatcalls him “one of our greatest living pianists.”Saturday May 3\, 2025 at 6pm \n\n\n\nBethany Baptist Church 275 West Market Street\, Newark NJ  07103For info: Call the Church Office (973-623-8161) or online at bethany-newark.org** Come see the “Jazz Vespers at 25” Photography Exhibit in the Bethany Chapel with artwork by Tony Graves!Co-sponsored with The Bethany Baptist Church Jazz Vespers Committee
URL:https://gregoryburrusproductions.com/event/arturo-ofarrill-in-bethany-jazz-vespers/
LOCATION:Bethany Baptist Church\, 275 West Market Street\, Newark\, New Jersey\, United States
ATTACH;FMTTYPE=image/jpeg:https://gregoryburrusproductions.com/wp-content/uploads/2025/04/Arturo-Ofarrell-2025-04-28-130351.jpg
END:VEVENT
END:VCALENDAR