BEGIN:VCALENDAR
VERSION:2.0
PRODID:-//Gregory Burrus Productions - ECPv6.15.20//NONSGML v1.0//EN
CALSCALE:GREGORIAN
METHOD:PUBLISH
X-ORIGINAL-URL:https://gregoryburrusproductions.com
X-WR-CALDESC:Events for Gregory Burrus Productions
REFRESH-INTERVAL;VALUE=DURATION:PT1H
X-Robots-Tag:noindex
X-PUBLISHED-TTL:PT1H
BEGIN:VTIMEZONE
TZID:America/New_York
BEGIN:DAYLIGHT
TZOFFSETFROM:-0500
TZOFFSETTO:-0400
TZNAME:EDT
DTSTART:20240310T070000
END:DAYLIGHT
BEGIN:STANDARD
TZOFFSETFROM:-0400
TZOFFSETTO:-0500
TZNAME:EST
DTSTART:20241103T060000
END:STANDARD
BEGIN:DAYLIGHT
TZOFFSETFROM:-0500
TZOFFSETTO:-0400
TZNAME:EDT
DTSTART:20250309T070000
END:DAYLIGHT
BEGIN:STANDARD
TZOFFSETFROM:-0400
TZOFFSETTO:-0500
TZNAME:EST
DTSTART:20251102T060000
END:STANDARD
BEGIN:DAYLIGHT
TZOFFSETFROM:-0500
TZOFFSETTO:-0400
TZNAME:EDT
DTSTART:20260308T070000
END:DAYLIGHT
BEGIN:STANDARD
TZOFFSETFROM:-0400
TZOFFSETTO:-0500
TZNAME:EST
DTSTART:20261101T060000
END:STANDARD
END:VTIMEZONE
BEGIN:VEVENT
DTSTART;TZID=America/New_York:20250530T193000
DTEND;TZID=America/New_York:20250530T220000
DTSTAMP:20260425T190143
CREATED:20250320T041151Z
LAST-MODIFIED:20250501T060033Z
UID:10002359-1748633400-1748642400@gregoryburrusproductions.com
SUMMARY:Rutgers IJS and Greg Burrus Present Carlos Frias and Circulo Social
DESCRIPTION:Register on Eventbrite\n\n\nCarlos Frias and Circulo Social @ Clements Place\n\n\n\nWith roots in the Dominican Republic Carlos Frias is a singer songwriter\, Visual Artist\, Drummer and percussionist and the front man of the Latin jazz and world music band – Carlos Frias & Circulo Social. \n\n\n\nBased out of Bloomfield NJ\, we play mostly original music that we blend with Rock\, Jazz and Latin rhythms. In our music you can hear the heart of the Caribbean\, the peasant chant\, the voice of those speaking against injustice accompanied by Afro Caribbean rhythms. \n\n\n\nCarlos\, a talented musician\, has captivated many audiences in Northern NJ at popular venues including Crossroads\, Suzy Ques\, Hat City\, and Abuja International amongst others.. Carlos Frias and Circulo Social kicked off popular the Patterson NJ Jazz Festival an recently earned the honor of opening for Tito Puente Jr. and has sold out stellar performances at Rutgers Institute of Jazz Studies Clements’ Place Jazz.
URL:https://gregoryburrusproductions.com/event/carlos-frias-and-circulo-social-clements-place/
LOCATION:Clements Place Jazz IJS – Ruth Bader Ginsburg Building\, 15 Washington Street\, Newark\, NJ\, United States
CATEGORIES:Art and Entertainment,Latin Jazz,Live Music
ATTACH;FMTTYPE=image/jpeg:https://gregoryburrusproductions.com/wp-content/uploads/2023/08/2-sq-carlos-frias-and-circulo-social-latin-jazz-band.jpg
END:VEVENT
BEGIN:VEVENT
DTSTART;TZID=America/New_York:20250530T193000
DTEND;TZID=America/New_York:20250530T233000
DTSTAMP:20260425T190143
CREATED:20250507T052343Z
LAST-MODIFIED:20250507T052345Z
UID:10002425-1748633400-1748647800@gregoryburrusproductions.com
SUMMARY:Mothers' Day featuring Spoken Word by Mother Amina Baraka and Love and Soul by the Silver Stars
DESCRIPTION:Join us for a fabulous and inspiring Mothers Day Celebration featuring Spoken Word by the Queen Mother Amina Baraka and the Ambassador of Love and Soul\, Newark’s own Silver Stars Band. \n\n\n\n\n\n\n\nProdigal Sons And Daughters Behavioral HealthCare Services\, Truth In Treatment\, and the Councils of THEM & MFM\, Inc presents ‘Anti Violence\, Stop The Killing\, World Healing Campaigns continue with our 2nd Annual\, ‘WOMENS APPRECIATION DAY’MAY 30\, 2025\, 7-11pm and After PartyAt the Fabulous Silver Stars Multimedia Complex And Learning CenterFeaturing Spoken Work by Queen Mother Amina Baraka\, wife of the late Amiri Baraka and mother of the current mayor and gubernatorial candidate Ras Baraka also featuring The Ambassadors of Love and The Soul of New Jersey\, Newark’s Very Own\, Silver StarsFood will be served from The fabulous Silver Stars Restaurant and Lounge50/50 RaffleHealing awards will be presented to:Queen Mother BarakaQueen Mother Caroline Wallace of The International Youth OrganizationQueen Mother Fredrica Bey\, Women In Support of The Million Man MarchQueen Mother\, Reverend and Council Women At Large\, Louise RoundtreeQueen Mother Martyse Strychacz\, founder/CEO Truth In Treatment\, Partner & Chief Operations Officer of PSDBHS and all of its affiliates\, Co-Owner of Silver Stars Restaurant and Lounge \n\n\n\nCome Join Us for an Extraordinary Mothers Day Celebration.\n\n\n\n\n\nProceeds Go To Benefit Unity And Peace In The Community And Ultimately The World. \n\n\n\n \n\n\n\n \n\n\n\nFOR INFORMATION AND TICKET PURCHASE\n\n\n\nCALL: PSDBHS 862.205.4600 \n\n\n\nSILVER STARS PRODUCTION 862.253.5460 \n\n\n\nPAYMENT: CASH APP: $HAKIMMUHAMMADALI \n\n\n\nZELLE: 973.703.3262 \n\n\n\nCALL: 201.294.0601 \n\n\n\nCONTACT VANDER @ V.O. PROMOTIONS \n\n\n\nPAYMENT: CASH APP: $VANDERSMOVE
URL:https://gregoryburrusproductions.com/event/mothers-day-featuring-spoken-word-by-mother-amina-baraka-and-love-and-soul-by-the-silver-stars/
LOCATION:Silver Stars Media Complex\, 60 Franklin Street\, East Orange\, New Jersey\, 07017\, United States
ATTACH;FMTTYPE=image/jpeg:https://gregoryburrusproductions.com/wp-content/uploads/2025/05/mothers-day-instagram.jpg
END:VEVENT
END:VCALENDAR