BEGIN:VCALENDAR
VERSION:2.0
PRODID:-//Gregory Burrus Productions - ECPv6.15.20//NONSGML v1.0//EN
CALSCALE:GREGORIAN
METHOD:PUBLISH
X-WR-CALNAME:Gregory Burrus Productions
X-ORIGINAL-URL:https://gregoryburrusproductions.com
X-WR-CALDESC:Events for Gregory Burrus Productions
REFRESH-INTERVAL;VALUE=DURATION:PT1H
X-Robots-Tag:noindex
X-PUBLISHED-TTL:PT1H
BEGIN:VTIMEZONE
TZID:America/New_York
BEGIN:DAYLIGHT
TZOFFSETFROM:-0500
TZOFFSETTO:-0400
TZNAME:EDT
DTSTART:20250309T070000
END:DAYLIGHT
BEGIN:STANDARD
TZOFFSETFROM:-0400
TZOFFSETTO:-0500
TZNAME:EST
DTSTART:20251102T060000
END:STANDARD
BEGIN:DAYLIGHT
TZOFFSETFROM:-0500
TZOFFSETTO:-0400
TZNAME:EDT
DTSTART:20260308T070000
END:DAYLIGHT
BEGIN:STANDARD
TZOFFSETFROM:-0400
TZOFFSETTO:-0500
TZNAME:EST
DTSTART:20261101T060000
END:STANDARD
BEGIN:DAYLIGHT
TZOFFSETFROM:-0500
TZOFFSETTO:-0400
TZNAME:EDT
DTSTART:20270314T070000
END:DAYLIGHT
BEGIN:STANDARD
TZOFFSETFROM:-0400
TZOFFSETTO:-0500
TZNAME:EST
DTSTART:20271107T060000
END:STANDARD
END:VTIMEZONE
BEGIN:VEVENT
DTSTART;TZID=America/New_York:20260315T080000
DTEND;TZID=America/New_York:20260315T170000
DTSTAMP:20260423T052740
CREATED:20260315T043535Z
LAST-MODIFIED:20260315T043537Z
UID:10002650-1773561600-1773594000@gregoryburrusproductions.com
SUMMARY:Upcoming March 14 - 22\, 2026 Events Around Town with Gregory Burrs Productions
DESCRIPTION:Join us Around town. \n\n\n\nHistory of Women In Jazz Express Newark 54 Halsey Street\, Newark Free \n\n\n\nKirk Whalum WBGO Smooth Jazz NJ at Bickford Theater Morris Museum \n\n\n\nNick Scheuble Trio at Felina Steakhouse South Orange NJ \n\n\n\nAurway featuring Betty Neals in Praise & Poetry Mt Zion AME Milburn \n\n\n\nLeonieke Scheuble Trio at Van Goghs Ear Cafe Union NJ \n\n\n\nArt Meets Jazz Brandee Younger at Montclair Museum\, Montclair\, NJ  \n\n\n\nMerikara\, Yayoi Ikawa\, Maria Kolesnik & Sue Williams Jesus and Jazz Mt Zion \n\n\n\nMarel Hidalgo Jonathan Blake Pat Bianchi SOPAC Loft South Orange\, NJ  \n\n\n\nCheck our event page or the venue’s website for details. \n\n\n\n \n\n\n\nAnd see you back at Clements 3/25
URL:https://gregoryburrusproductions.com/event/upcoming-march-14-22-2026-events-around-town-with-gregory-burrs-productions/
LOCATION:NJ
ATTACH;FMTTYPE=image/jpeg:https://gregoryburrusproductions.com/wp-content/uploads/2026/03/GBPPart-2-Upcoming-MarchMonthly-Events-2024.jpg
END:VEVENT
BEGIN:VEVENT
DTSTART;TZID=America/New_York:20260315T113000
DTEND;TZID=America/New_York:20260315T130000
DTSTAMP:20260423T052740
CREATED:20260313T094913Z
LAST-MODIFIED:20260313T095726Z
UID:10002649-1773574200-1773579600@gregoryburrusproductions.com
SUMMARY:Praise and Poetry Presents the Inspiring Aurway featuring the Dynamic Betty Neals
DESCRIPTION:Family\, something new\, special\, and spirit‑filled is rising at Mt. Zion — 3rd Sunday is our brand‑new worship arts series\, Praise & Poetry. Under the visionary leadership of Pastor Eyesha Marable\, we’re opening a space where creativity\, worship\, and community meet in a way that feels both fresh and deeply rooted in who we are. \n\n\n\nTo help us launch this new series\, we’re blessed to welcome AURWAY\, bringing their powerful\, community‑centered gospel sound\, along with the beloved Betty Neals\, whose voice carries testimony\, joy\, and that unmistakable anointing. Together\, they’re helping us set the tone for a season of praise\, artistry\, and spiritual renewal. \n\n\n\nIf you’ve been longing for a moment to reconnect\, be inspired\, or simply sit in the warmth of worship and creative expression —  come through this Sunday.Let’s fill the house with love\, poetry\, praise\, and community as we step boldly into this new chapter. \n\n\nRegister on Eventbrite\n\n\nAll are welcome. Bring a friend. Bring your spirit. Something new is happening here — and you’ll want to be in the room. \n\n\n\nAURWAY\n\n\n\nAURWAY is a vibrant\, faith‑driven collective of singers and musicians dedicated to using the arts as a pathway to healing\, unity\, and community uplift. Known for their rich harmonies\, dynamic arrangements\, and spirit‑centered performances\, AURWAY brings a fresh\, contemporary gospel sound rooted in authenticity and purpose. Their ministry blends creativity with conviction\, offering music that inspires\, empowers\, and connects people across generations. Whether on stage or in service\, AURWAY carries a mission of building community through artistry\, excellence\, and heartfelt worship. \n\n\n\n\n\n\n\nBetty Neals \n\n\n\nBetty Neals is a beloved gospel vocalist whose voice radiates warmth\, testimony\, and timeless soul. With a gift for delivering songs that speak directly to the heart\, she brings anointing\, elegance\, and emotional depth to every performance. Betty’s artistry is shaped by years of ministry\, musicianship\, and a deep commitment to uplifting others through song. Her presence is both powerful and comforting — the kind of voice that fills a room with joy\, reverence\, and spiritual connection. Whether leading worship or sharing the stage with fellow artists\, Betty Neals embodies grace\, passion\, and the enduring beauty of gospel music.
URL:https://gregoryburrusproductions.com/event/praise-and-poetry-presents-the-inspiring-aurway-featuring-the-dynamic-betty-neals/
LOCATION:Mt Zion AME Church\, 54 Church Street\, Milburn\, New Jersey\, United States
CATEGORIES:Art and Entertainment,Commnity,Praise and Poetry
ATTACH;FMTTYPE=image/png:https://gregoryburrusproductions.com/wp-content/uploads/2026/03/2_20260312_222903_0001.png
END:VEVENT
END:VCALENDAR