BEGIN:VCALENDAR
VERSION:2.0
PRODID:-//Gregory Burrus Productions - ECPv6.15.20//NONSGML v1.0//EN
CALSCALE:GREGORIAN
METHOD:PUBLISH
X-ORIGINAL-URL:https://gregoryburrusproductions.com
X-WR-CALDESC:Events for Gregory Burrus Productions
REFRESH-INTERVAL;VALUE=DURATION:PT1H
X-Robots-Tag:noindex
X-PUBLISHED-TTL:PT1H
BEGIN:VTIMEZONE
TZID:America/New_York
BEGIN:DAYLIGHT
TZOFFSETFROM:-0500
TZOFFSETTO:-0400
TZNAME:EDT
DTSTART:20250309T070000
END:DAYLIGHT
BEGIN:STANDARD
TZOFFSETFROM:-0400
TZOFFSETTO:-0500
TZNAME:EST
DTSTART:20251102T060000
END:STANDARD
BEGIN:DAYLIGHT
TZOFFSETFROM:-0500
TZOFFSETTO:-0400
TZNAME:EDT
DTSTART:20260308T070000
END:DAYLIGHT
BEGIN:STANDARD
TZOFFSETFROM:-0400
TZOFFSETTO:-0500
TZNAME:EST
DTSTART:20261101T060000
END:STANDARD
BEGIN:DAYLIGHT
TZOFFSETFROM:-0500
TZOFFSETTO:-0400
TZNAME:EDT
DTSTART:20270314T070000
END:DAYLIGHT
BEGIN:STANDARD
TZOFFSETFROM:-0400
TZOFFSETTO:-0500
TZNAME:EST
DTSTART:20271107T060000
END:STANDARD
END:VTIMEZONE
BEGIN:VEVENT
DTSTART;TZID=America/New_York:20260410T193000
DTEND;TZID=America/New_York:20260410T220000
DTSTAMP:20260423T052816
CREATED:20260331T223905Z
LAST-MODIFIED:20260401T025501Z
UID:10002662-1775849400-1775858400@gregoryburrusproductions.com
SUMMARY:Rutgers IJS and Greg Burrus Present Cyrus Chestnut
DESCRIPTION:Register on Eventbrite\n\nRenowned pianist Cyrus Chestnut brings his soulful virtuosity to Clements Place in a special presentation by Rutgers IJS and Greg Burrus.\n\n\nRutgers IJs and Greg Burrus Present Cyrus Chestnut\nGet ready for an unforgettable night as Rutgers IJS and Greg Burrus bring you a live\, in-person performance featuring the incredible Cyrus Chestnut. Whether you’re a jazz lover or just looking for a great night out\, this event promises amazing vibes and top-notch music. Don’t miss your chance to experience the magic of Cyrus Chestnut up close and personal!
URL:https://gregoryburrusproductions.com/event/rutgers-ijs-and-greg-burrus-present-cyrus-chestnut/
LOCATION:Clement’s Place\, 15 Washington Street\, Newark\, NJ\, 07102\, United States
ATTACH;FMTTYPE=image/jpeg:https://gregoryburrusproductions.com/wp-content/uploads/2026/03/7c5745115857844285fb5d7978ce715c-8NTH1N.tmp_.jpg
END:VEVENT
END:VCALENDAR