BEGIN:VCALENDAR
VERSION:2.0
PRODID:-//Gregory Burrus Productions - ECPv6.15.20//NONSGML v1.0//EN
CALSCALE:GREGORIAN
METHOD:PUBLISH
X-WR-CALNAME:Gregory Burrus Productions
X-ORIGINAL-URL:https://gregoryburrusproductions.com
X-WR-CALDESC:Events for Gregory Burrus Productions
REFRESH-INTERVAL;VALUE=DURATION:PT1H
X-Robots-Tag:noindex
X-PUBLISHED-TTL:PT1H
BEGIN:VTIMEZONE
TZID:America/New_York
BEGIN:DAYLIGHT
TZOFFSETFROM:-0500
TZOFFSETTO:-0400
TZNAME:EDT
DTSTART:20250309T070000
END:DAYLIGHT
BEGIN:STANDARD
TZOFFSETFROM:-0400
TZOFFSETTO:-0500
TZNAME:EST
DTSTART:20251102T060000
END:STANDARD
BEGIN:DAYLIGHT
TZOFFSETFROM:-0500
TZOFFSETTO:-0400
TZNAME:EDT
DTSTART:20260308T070000
END:DAYLIGHT
BEGIN:STANDARD
TZOFFSETFROM:-0400
TZOFFSETTO:-0500
TZNAME:EST
DTSTART:20261101T060000
END:STANDARD
BEGIN:DAYLIGHT
TZOFFSETFROM:-0500
TZOFFSETTO:-0400
TZNAME:EDT
DTSTART:20270314T070000
END:DAYLIGHT
BEGIN:STANDARD
TZOFFSETFROM:-0400
TZOFFSETTO:-0500
TZNAME:EST
DTSTART:20271107T060000
END:STANDARD
END:VTIMEZONE
BEGIN:VEVENT
DTSTART;TZID=America/New_York:20260417T193000
DTEND;TZID=America/New_York:20260417T220000
DTSTAMP:20260421T063605
CREATED:20260402T174256Z
LAST-MODIFIED:20260402T180643Z
UID:10002670-1776454200-1776463200@gregoryburrusproductions.com
SUMMARY:Rutgers IJS Presents Damon Duewhite and Friends
DESCRIPTION:Drummer Damon Duewhite leads a powerful night of groove\, swing\, and funky jazz at Clements Place.\n\n\nFEATURING BRYAN CARROT – VIBES\, EDDIE ALLEN – TRUMPET\, CARLOS HENDERSON – BASS\, AND SILVANO MONISTARIOS – PIANO. \n************************************************************** \nABOUT DAMON DUEWHITE \nDamon DueWhite (drums\, percussion) a native of Twin Oaks\, Pennsylvania\, a Philadelphia suburb\, learned to play the drums at the age of six from his father. At the age of fourteen\, he was playing in local bands in and around Philadelphia and the New York Tri-State area. DueWhite\, attended the Berklee College of Music where he was heavily influenced by the likes of Branford Marsalis\, Donald Harrison\, Terri Lynne Carrington\, Wallace Roney\, Jeff “Tain” Watts\, Rachelle Ferrell and many others. \nDueWhite has performed and/or recorded with Vanessa Williams and The National Symphony Orchestra\, Hugh Masekela\, Oliver Lake\, Regina Carter\, Philip Harper\, Rachelle Ferrell\, Miriam Makeba\, Harry Belafonte\, Vanessa Rubin\, Carla Cook\, Craig Harris\, Meshell Ndegeocello\, Jonathan Butler\, George Duke\, Roberta Flack\, Vernon Reid\, Nona Hendrix\, Johnny Clyde Copland\, Shemekia Copeland\, to name a few. \nHis Broadway credits are the first U.S. tour of the Tony Award winning Broadway musical “Bring in ‘Da Noise\, Bring in ‘Da Funk”\, the national tour of the Tony Award-nominated blues revue “It Ain’t Nothin’ but the Blues.” His other work on Broadway includes the Tony Award winning musical “The Color Purple” and “Holler If Ya Hear Me” based on the music of Tupac Shakur\, the Tony nominated production of “Motown: The Musical.” The Tony Award winning show “Hello Dolly.” Featuring Bette Midler\, and Tina Turner the Musical. \n******************************************************************************************* \nCheck out the livestream on the Clement’s Place Jazz\, IJS\, and on our YouTube channel – \nhttps://www.youtube.com/channel/UCf8W7q1qlz0yt5Ebcn4tkSQ \nhttps://www.facebook.com/InstituteJazzStudies
URL:https://gregoryburrusproductions.com/event/rutgers-ijs-presents-damon-duewhite-and-friends-2/
LOCATION:NJ
ATTACH;FMTTYPE=image/jpeg:https://gregoryburrusproductions.com/wp-content/uploads/2026/04/Clements-Damon-Duewhite-and-Friends-Eventbrite.jpg
END:VEVENT
END:VCALENDAR