BEGIN:VCALENDAR
VERSION:2.0
PRODID:-//Gregory Burrus Productions - ECPv6.15.20//NONSGML v1.0//EN
CALSCALE:GREGORIAN
METHOD:PUBLISH
X-WR-CALNAME:Gregory Burrus Productions
X-ORIGINAL-URL:https://gregoryburrusproductions.com
X-WR-CALDESC:Events for Gregory Burrus Productions
REFRESH-INTERVAL;VALUE=DURATION:PT1H
X-Robots-Tag:noindex
X-PUBLISHED-TTL:PT1H
BEGIN:VTIMEZONE
TZID:America/New_York
BEGIN:DAYLIGHT
TZOFFSETFROM:-0500
TZOFFSETTO:-0400
TZNAME:EDT
DTSTART:20210314T070000
END:DAYLIGHT
BEGIN:STANDARD
TZOFFSETFROM:-0400
TZOFFSETTO:-0500
TZNAME:EST
DTSTART:20211107T060000
END:STANDARD
BEGIN:DAYLIGHT
TZOFFSETFROM:-0500
TZOFFSETTO:-0400
TZNAME:EDT
DTSTART:20220313T070000
END:DAYLIGHT
BEGIN:STANDARD
TZOFFSETFROM:-0400
TZOFFSETTO:-0500
TZNAME:EST
DTSTART:20221106T060000
END:STANDARD
BEGIN:DAYLIGHT
TZOFFSETFROM:-0500
TZOFFSETTO:-0400
TZNAME:EDT
DTSTART:20230312T070000
END:DAYLIGHT
BEGIN:STANDARD
TZOFFSETFROM:-0400
TZOFFSETTO:-0500
TZNAME:EST
DTSTART:20231105T060000
END:STANDARD
END:VTIMEZONE
BEGIN:VEVENT
DTSTART;TZID=America/New_York:20220711T170000
DTEND;TZID=America/New_York:20220711T180000
DTSTAMP:20260425T075420
CREATED:20220628T220236Z
LAST-MODIFIED:20220703T195540Z
UID:10000161-1657558800-1657562400@gregoryburrusproductions.com
SUMMARY:Harmonic Convergence in NJPAC MUSIC & MOVEMENT Series
DESCRIPTION:Monday\, July 11\, 2022River FrontMUSIC & MOVEMENT5:00 PM6:00 PMXHarmonic Convergence JazzWorld\, Jazz\, Video
URL:https://gregoryburrusproductions.com/event/harmonic-convergence-in-njpac-music-movement-series/
LOCATION:Newark Riverfront Park \, Somme Street Entrance\, Newark\,\, New Jersey\, 07105\, United States
CATEGORIES:Jazz,Live Music
ATTACH;FMTTYPE=image/jpeg:https://gregoryburrusproductions.com/wp-content/uploads/2022/07/Harmonic-Convergence.jpg
ORGANIZER;CN="Gregory Burrus Productions":MAILTO:answers@techoss.com
END:VEVENT
BEGIN:VEVENT
DTSTART;TZID=America/New_York:20220712T120000
DTEND;TZID=America/New_York:20220712T130000
DTSTAMP:20260425T075420
CREATED:20220628T214432Z
LAST-MODIFIED:20220706T185005Z
UID:10000160-1657627200-1657630800@gregoryburrusproductions.com
SUMMARY:Lynette Sheard Live in NJPAC MUSIC & MOVEMENT Series
DESCRIPTION:Tuesday\, July 12\, 2022Washington ParkMUSIC & MOVEMENT12:00 PM1:00 PMXGospel\, R&B\, Jazz
URL:https://gregoryburrusproductions.com/event/lynette-sheard-live-in-njpac-music-movement-series/
LOCATION:Washington Park\, 33 Washington St\, Newark\, NJ\, 07102\, United States
CATEGORIES:Jazz,Live Music,RnB
ATTACH;FMTTYPE=image/jpeg:https://gregoryburrusproductions.com/wp-content/uploads/2022/06/lYNETTE-sHEARD.jpg
ORGANIZER;CN="Gregory Burrus Productions":MAILTO:answers@techoss.com
END:VEVENT
BEGIN:VEVENT
DTSTART;TZID=America/New_York:20220713T123000
DTEND;TZID=America/New_York:20220713T163000
DTSTAMP:20260425T075420
CREATED:20220624T015728Z
LAST-MODIFIED:20220624T020458Z
UID:10000125-1657715400-1657729800@gregoryburrusproductions.com
SUMMARY:MPACK Jamming at the Orange Farmers Market
DESCRIPTION:MPACK Jamming City of Orange Farmers Market  Join Us…. Across from McDonalds – Every Wednesday Noon to 5 PM  
URL:https://gregoryburrusproductions.com/event/mpack-jamming-at-the-orange-farmers-market/
LOCATION:City of Orange – On the Green\, 145-147 S Main St\, City of Orange\, NJ\, 07050\, United States
CATEGORIES:Live Music,RnB
ORGANIZER;CN="Gregory Burrus Productions":MAILTO:answers@techoss.com
END:VEVENT
BEGIN:VEVENT
DTSTART;TZID=America/New_York:20220714T120000
DTEND;TZID=America/New_York:20220714T130000
DTSTAMP:20260425T075420
CREATED:20220628T222156Z
LAST-MODIFIED:20220628T222156Z
UID:10000162-1657800000-1657803600@gregoryburrusproductions.com
SUMMARY:MPACK Music R&B in MUSIC & MOVEMENT Series
DESCRIPTION:Thursday\, July 14\, 2022 Military Park MUSIC & MOVEMENT 12:00 PM 1:00 PM X MPACK Music R&B
URL:https://gregoryburrusproductions.com/event/mpack-music-rb-in-music-movement-series/
LOCATION:Military Park\, Newark\, 55 Park Pl\, NJ\, 07102\, United States
ORGANIZER;CN="Gregory Burrus Productions":MAILTO:answers@techoss.com
END:VEVENT
BEGIN:VEVENT
DTSTART;TZID=America/New_York:20220714T180000
DTEND;TZID=America/New_York:20220714T203000
DTSTAMP:20260425T075420
CREATED:20220624T031923Z
LAST-MODIFIED:20220703T041112Z
UID:10000135-1657821600-1657830600@gregoryburrusproductions.com
SUMMARY:Cranford Summer Sounds Forget the Whale
DESCRIPTION:Cranford Summer Sounds Forget the Whale
URL:https://gregoryburrusproductions.com/event/cranford-summer-sounds-forget-the-whale/
LOCATION:NJ
ATTACH;FMTTYPE=image/jpeg:https://gregoryburrusproductions.com/wp-content/uploads/2022/06/Cranford-Events-Summer-Sounds-July.jpg
END:VEVENT
BEGIN:VEVENT
DTSTART;TZID=America/New_York:20220715T170000
DTEND;TZID=America/New_York:20220715T180000
DTSTAMP:20260425T075420
CREATED:20220628T224709Z
LAST-MODIFIED:20220706T173222Z
UID:10000163-1657904400-1657908000@gregoryburrusproductions.com
SUMMARY:Jacqueline Harmon Johnson in MUSIC & MOVEMENT Series
DESCRIPTION:Friday\, July 15\, 2022Mulberry CommonsMUSIC & MOVEMENT5:00 PM6:00 PMXJacqueline Harmon Johnson\n\n\n\n\n\n\n\nMulberry Commons\, downtown Newark’s newest park is the development of three acres of open space. Located directly in front of Prudential Center; Mulberry Commons will offer versatile event space to host all of your outdoor activation needs.
URL:https://gregoryburrusproductions.com/event/jacqueline-harmon-johnson-in-music-movement-series/
LOCATION:Mulberry Commons Newark\, Mulberry St\, Newark\, New Jersey\, 07102\, United States
ATTACH;FMTTYPE=image/jpeg:https://gregoryburrusproductions.com/wp-content/uploads/2021/10/jacque-harmon-johnson-quartet.jpg
ORGANIZER;CN="Gregory Burrus Productions":MAILTO:answers@techoss.com
END:VEVENT
BEGIN:VEVENT
DTSTART;TZID=America/New_York:20220717T150000
DTEND;TZID=America/New_York:20220717T193000
DTSTAMP:20260425T075420
CREATED:20220418T041539Z
LAST-MODIFIED:20220624T011333Z
UID:10000113-1658070000-1658086200@gregoryburrusproductions.com
SUMMARY:Farming Community and Live Music at Hawthorne Urban Farm
DESCRIPTION:Save The Date Live Music at Hawthorne Urban Farms
URL:https://gregoryburrusproductions.com/event/farming-community-and-live-music-at-hawthorne-urban-farm/
LOCATION:Hawthorne Urban Farms\, 446 Hawthorne Ave\, Newark\, New Jersey\, 07112\, United States
ATTACH;FMTTYPE=image/jpeg:https://gregoryburrusproductions.com/wp-content/uploads/2022/04/hawthorne-urban-farm-newark-nj.jpg
ORGANIZER;CN="Gregory Burrus Productions":MAILTO:answers@techoss.com
END:VEVENT
BEGIN:VEVENT
DTSTART;TZID=America/New_York:20220719T120000
DTEND;TZID=America/New_York:20220719T130000
DTSTAMP:20260425T075420
CREATED:20220718T200204Z
LAST-MODIFIED:20220718T201346Z
UID:10000164-1658232000-1658235600@gregoryburrusproductions.com
SUMMARY:Leonieke Scheuble Generations of Jazz Trio in Newark Harriet Tubman Park
DESCRIPTION:20220719 Leonieke Scheuble Trio in Newark Parks Foundation NJPAC Music and Movement Series in Harriet Tubman Park
URL:https://gregoryburrusproductions.com/event/leonieke-scheuble-generations-of-jazz-trio-in-newark-harriet-tubman-park/
LOCATION:Washington Park\, 33 Washington St\, Newark\, NJ\, 07102\, United States
ORGANIZER;CN="Gregory Burrus Productions":MAILTO:answers@techoss.com
END:VEVENT
BEGIN:VEVENT
DTSTART;TZID=America/New_York:20220720T123000
DTEND;TZID=America/New_York:20220720T163000
DTSTAMP:20260425T075420
CREATED:20220624T021417Z
LAST-MODIFIED:20220721T123313Z
UID:10000126-1658320200-1658334600@gregoryburrusproductions.com
SUMMARY:MPACK Jamming City of Orange Farmers Market
DESCRIPTION:MPACK Jamming City of Orange Farmers Market  Join Us…. Across from McDonalds on Main Street- Every Wednesday Noon to 5 PM  
URL:https://gregoryburrusproductions.com/event/mpack-jamming-city-of-orange-farmers-market-3/
LOCATION:City of Orange – On the Green\, 145-147 S Main St\, City of Orange\, NJ\, 07050\, United States
CATEGORIES:Live Music,RnB
ATTACH;FMTTYPE=image/jpeg:https://gregoryburrusproductions.com/wp-content/uploads/2022/06/MPACK-t-2021-09-12.jpg
ORGANIZER;CN="Gregory Burrus Productions":MAILTO:answers@techoss.com
END:VEVENT
BEGIN:VEVENT
DTSTART;TZID=America/New_York:20220721T120000
DTEND;TZID=America/New_York:20220721T130000
DTSTAMP:20260425T075420
CREATED:20220718T201140Z
LAST-MODIFIED:20220721T141527Z
UID:10000165-1658404800-1658408400@gregoryburrusproductions.com
SUMMARY:Canceled - Carlos Frias and Circulo Social in Military Park - The Yard
DESCRIPTION:Canceled due to Rain and Heat – Thursday 12-1 pm Carlos Frias and Circulo Social in Newark Parks Foundation NJPAC Music and Movement Series in in Military Park – The Yard
URL:https://gregoryburrusproductions.com/event/carlos-frias-and-circulo-social-in-military-park-the-yard/
LOCATION:Military Park\, Newark\, 55 Park Pl\, NJ\, 07102\, United States
ATTACH;FMTTYPE=image/jpeg:https://gregoryburrusproductions.com/wp-content/uploads/2022/07/carlos-frias.jpg
ORGANIZER;CN="Gregory Burrus Productions":MAILTO:answers@techoss.com
END:VEVENT
BEGIN:VEVENT
DTSTART;TZID=America/New_York:20220721T180000
DTEND;TZID=America/New_York:20220721T203000
DTSTAMP:20260425T075420
CREATED:20220624T032124Z
LAST-MODIFIED:20220703T041308Z
UID:10000136-1658426400-1658435400@gregoryburrusproductions.com
SUMMARY:Cranford Summer Sounds Big In China- Alan Paul
DESCRIPTION:Cranford Summer Sounds Big In China- Alan Paul
URL:https://gregoryburrusproductions.com/event/cranford-summer-sounds-big-in-china-alan-paul/
LOCATION:Eastman Clock Plaza Park\, N Union Ave\, Cranford\, NJ\, 07016\, United States
ATTACH;FMTTYPE=image/jpeg:https://gregoryburrusproductions.com/wp-content/uploads/2022/06/Cranford-Events-Summer-Sounds-July.jpg
ORGANIZER;CN="Gregory Burrus Productions":MAILTO:answers@techoss.com
END:VEVENT
BEGIN:VEVENT
DTSTART;TZID=America/New_York:20220722T170000
DTEND;TZID=America/New_York:20220722T180000
DTSTAMP:20260425T075420
CREATED:20220718T201718Z
LAST-MODIFIED:20220721T122715Z
UID:10000166-1658509200-1658512800@gregoryburrusproductions.com
SUMMARY:MPACK MUSIC at Mulberry Commons for NJPAC Music and Movement Series
DESCRIPTION:722 5-6 PM MPACK MUSIC at Mulberry Commons for NJPAC Music and Movement Series
URL:https://gregoryburrusproductions.com/event/mpack-music-at-mulberry-commons-for-njpac-music-and-movement-series/
LOCATION:Mulberry Commons Newark\, Mulberry St\, Newark\, New Jersey\, 07102\, United States
CATEGORIES:Live Music,RnB
ATTACH;FMTTYPE=image/jpeg:https://gregoryburrusproductions.com/wp-content/uploads/2022/07/NPACK-JAMMING-NEWARK-mILITARY-cOMMONS.jpg
ORGANIZER;CN="Gregory Burrus Productions":MAILTO:answers@techoss.com
END:VEVENT
BEGIN:VEVENT
DTSTART;TZID=America/New_York:20220723T150000
DTEND;TZID=America/New_York:20220723T200000
DTSTAMP:20260425T075420
CREATED:20220624T051745Z
LAST-MODIFIED:20220721T121233Z
UID:10000155-1658588400-1658606400@gregoryburrusproductions.com
SUMMARY:Canceled Afternoon Jazz at the Promenade in Linden NJ
DESCRIPTION:Jazz Outdoors in the Promenade Join Us \n\n\n\n Canceled due to Heat
URL:https://gregoryburrusproductions.com/event/afternoon-jazz-at-the-promenade-in-linden%ef%bf%bc%ef%bf%bc%ef%bf%bc%ef%bf%bc%ef%bf%bc%ef%bf%bc/
LOCATION:Raymond Wood Bauer Promenade\, 400 N Wood Ave\, Linden\, NJ\, 07036\, United States
ATTACH;FMTTYPE=image/jpeg:https://gregoryburrusproductions.com/wp-content/uploads/2022/06/2160x1080-Jazz-Fest-at-the-Promenade-2022.jpg
ORGANIZER;CN="Gregory Burrus Productions":MAILTO:answers@techoss.com
END:VEVENT
BEGIN:VEVENT
DTSTART;TZID=America/New_York:20220727T003000
DTEND;TZID=America/New_York:20220727T163000
DTSTAMP:20260425T075420
CREATED:20220624T021925Z
LAST-MODIFIED:20220727T011631Z
UID:10000127-1658881800-1658939400@gregoryburrusproductions.com
SUMMARY:Canceled MPACK Jamming at the Orange Farmers Market
DESCRIPTION:MPACK Jamming at the Orange Farmers Market on the grass on Main Street Across from McDonalds Come sing or play your instrument today till 4:30 pm
URL:https://gregoryburrusproductions.com/event/mpack-jamming-at-the-orange-farmers-market-2/
LOCATION:City of Orange – On the Green\, 145-147 S Main St\, City of Orange\, NJ\, 07050\, United States
ATTACH;FMTTYPE=image/jpeg:https://gregoryburrusproductions.com/wp-content/uploads/2022/06/MPACK-t-2021-09-12.jpg
ORGANIZER;CN="Gregory Burrus Productions":MAILTO:answers@techoss.com
END:VEVENT
BEGIN:VEVENT
DTSTART;TZID=America/New_York:20220728T120000
DTEND;TZID=America/New_York:20220728T130000
DTSTAMP:20260425T075420
CREATED:20220727T011150Z
LAST-MODIFIED:20220727T013745Z
UID:10000168-1659009600-1659013200@gregoryburrusproductions.com
SUMMARY:Leonieke Scheuble Quartet in NJPAC Newark Military Park
DESCRIPTION:Thursday\, July 28\, 2022 Military Park MUSIC & MOVEMENT 12:00 PM 1:00 PM Leonieke Scheuble Music Jazz
URL:https://gregoryburrusproductions.com/event/leonieke-scheuble-quartet-in-newark-military-park/
LOCATION:Military Park\, Newark\, 55 Park Pl\, NJ\, 07102\, United States
ATTACH;FMTTYPE=image/jpeg:https://gregoryburrusproductions.com/wp-content/uploads/2022/07/leonieke-scheuble-trio.jpg
ORGANIZER;CN="Gregory Burrus Productions":MAILTO:answers@techoss.com
END:VEVENT
BEGIN:VEVENT
DTSTART;TZID=America/New_York:20220728T180000
DTEND;TZID=America/New_York:20220728T203000
DTSTAMP:20260425T075420
CREATED:20220624T032344Z
LAST-MODIFIED:20220728T210848Z
UID:10000137-1659031200-1659040200@gregoryburrusproductions.com
SUMMARY:CanceledTRain Cranford Summer Sounds Lynette Sheard - Brandon McCune
DESCRIPTION:Cranford Summer Sounds Sheard featuring Brandon McCune Trio \n\n\n\nCanceled by Rain \n\n\n\nLynette Sheard Live – Lynette Sheard is a gifted versatile vocalist with a five octave range. She is an actor\, producer and director. She is the unseated “West Orange Idol”.  The Star Ledger proclaims that “Her voice reaches deep into one’s soul and finds a soft spot” She performs Jazz\, R&B\, Gospel\, Soul and Pop music throughout the tri-state area.
URL:https://gregoryburrusproductions.com/event/cranford-summer-sounds-sheard-featuring-mpack/
LOCATION:Eastman Clock Plaza Park\, N Union Ave\, Cranford\, NJ\, 07016\, United States
CATEGORIES:Jazz,Live Music,RnB
ATTACH;FMTTYPE=image/jpeg:https://gregoryburrusproductions.com/wp-content/uploads/2022/06/Lynette-Sheard-Brandon-McCune.jpg
ORGANIZER;CN="Gregory Burrus Productions":MAILTO:answers@techoss.com
END:VEVENT
BEGIN:VEVENT
DTSTART;TZID=America/New_York:20220729T170000
DTEND;TZID=America/New_York:20220729T180000
DTSTAMP:20260425T075420
CREATED:20220727T020400Z
LAST-MODIFIED:20220727T020433Z
UID:10000169-1659114000-1659117600@gregoryburrusproductions.com
SUMMARY:Dre Barnes in NJPAC Music & Movement at Mulberry Commons
DESCRIPTION:
URL:https://gregoryburrusproductions.com/event/dre-barnes-in-njpac-music-movement-at-mulberry-commons/
LOCATION:Mulberry Commons Newark\, Mulberry St\, Newark\, New Jersey\, 07102\, United States
ATTACH;FMTTYPE=image/jpeg:https://gregoryburrusproductions.com/wp-content/uploads/2022/07/messages_0.jpeg
ORGANIZER;CN="Gregory Burrus Productions":MAILTO:answers@techoss.com
END:VEVENT
BEGIN:VEVENT
DTSTART;TZID=America/New_York:20220731T150000
DTEND;TZID=America/New_York:20220731T180000
DTSTAMP:20260425T075420
CREATED:20220624T044608Z
LAST-MODIFIED:20220818T011317Z
UID:10000151-1659279600-1659290400@gregoryburrusproductions.com
SUMMARY:Sunday Jazz at the Maplewood Springfield Ave Gazebo
DESCRIPTION:Jazz at the Gazebo on Springfield Avenue \n\n\n\n\n\n\n\n\n\n\n\nThe Sunday Jazz Series\, produced by Gregory Burrus Productions and Springfield Avenue Partnership will take place at the Springfield Avenue Gazebo each weekend from Sunday July 31st – August 14th from 3 pm – 6 pm. (If any of these dates are rained out\, that date will be rescheduled for August 14th). This event is designed to welcome local jazz bands and musicians to come together and enjoy playing jam sessions\, while also inviting our community to come out and enjoy the music in the heart of the Hilton neighborhood. The opening event on Sunday July 31st will feature about 10 local artisan vendors and a food truck\, as well as some poetry readings and a dance performance from a local dance school. Vendors and performers to be announced\, but please make sure to stay tuned for additional announcements about our upcoming Sunday Jazz Series. You can find more information in local publications\, on the SAM website (www.springfieldavenue.com) and on the SAM and MAPSO Funk Fest Instagram pages (@springfield_avenue & @mapsofunkfest)
URL:https://gregoryburrusproductions.com/event/sunday-jazz/
LOCATION:Springfield Avenue Gazebo\, 1662 Springfield Ave\, Maplewood\, New Jersey\, 07040\, United States
ATTACH;FMTTYPE=image/png:https://gregoryburrusproductions.com/wp-content/uploads/2022/06/SUNDAY-JAZZ-SERIES-FLYER-2-1.png
ORGANIZER;CN="Gregory Burrus Productions":MAILTO:answers@techoss.com
END:VEVENT
BEGIN:VEVENT
DTSTART;TZID=America/New_York:20220801T170000
DTEND;TZID=America/New_York:20220801T180000
DTSTAMP:20260425T075420
CREATED:20220727T021519Z
LAST-MODIFIED:20220727T032135Z
UID:10000170-1659373200-1659376800@gregoryburrusproductions.com
SUMMARY:Carlos Frias and Circulo Social in NJPAC River Front Park MUSIC & MOVEMENT Series
DESCRIPTION:Monday\, August 1\, 2022 River Front MUSIC & MOVEMENT 5:00 PM 6:00 PM Carlos Frias and Circulo Social Latin
URL:https://gregoryburrusproductions.com/event/carlos-frias-and-circulo-social-in-njpac-river-front-park-music-movement-series/
LOCATION:Newark Riverfront Park \, Somme Street Entrance\, Newark\,\, New Jersey\, 07105\, United States
ATTACH;FMTTYPE=image/jpeg:https://gregoryburrusproductions.com/wp-content/uploads/2022/07/carlos-Frias.jpg
ORGANIZER;CN="Gregory Burrus Productions":MAILTO:answers@techoss.com
END:VEVENT
BEGIN:VEVENT
DTSTART;TZID=America/New_York:20220803T123000
DTEND;TZID=America/New_York:20220803T163000
DTSTAMP:20260425T075420
CREATED:20220624T022348Z
LAST-MODIFIED:20220727T012629Z
UID:10000128-1659529800-1659544200@gregoryburrusproductions.com
SUMMARY:MPACK Jamming at the Orange Farmers Market
DESCRIPTION:MPACK Jamming at the Orange Farmers Market on the grass on Main Street Across from McDonalds Come sing or play your instrument today till 4:30 pm
URL:https://gregoryburrusproductions.com/event/mpack-jamming-at-the-orange-farmers-market-3/
LOCATION:City of Orange – On the Green\, 145-147 S Main St\, City of Orange\, NJ\, 07050\, United States
ATTACH;FMTTYPE=image/jpeg:https://gregoryburrusproductions.com/wp-content/uploads/2022/06/MPACK-t-2021-09-12.jpg
ORGANIZER;CN="Gregory Burrus Productions":MAILTO:answers@techoss.com
END:VEVENT
BEGIN:VEVENT
DTSTART;TZID=America/New_York:20220804T180000
DTEND;TZID=America/New_York:20220804T203000
DTSTAMP:20260425T075420
CREATED:20220624T032611Z
LAST-MODIFIED:20220804T214002Z
UID:10000138-1659636000-1659645000@gregoryburrusproductions.com
SUMMARY:Cancelled Cranford Summer Sounds Big Train
DESCRIPTION:Cranford Summer Sounds Big Train \n\n\n\nBig Train plays horn-infused R&B and soul for your drinking and dancing pleasure. \n\n\n\nWeather Heat Cancelled
URL:https://gregoryburrusproductions.com/event/cranford-summer-sounds-big-train/
LOCATION:Downtown Cranford Clock\, N Union Ave\, Cranford\, NJ 07016\, Cranford\, New Jersey\, United States
ATTACH;FMTTYPE=image/jpeg:https://gregoryburrusproductions.com/wp-content/uploads/2022/06/big_train.jpg
ORGANIZER;CN="Gregory Burrus Productions":MAILTO:answers@techoss.com
END:VEVENT
BEGIN:VEVENT
DTSTART;TZID=America/New_York:20220805T170000
DTEND;TZID=America/New_York:20220805T180000
DTSTAMP:20260425T075420
CREATED:20220727T032749Z
LAST-MODIFIED:20220727T032750Z
UID:10000173-1659718800-1659722400@gregoryburrusproductions.com
SUMMARY:Leonieke Scheuble Trio in NJPAC Newark Mulberry Commons
DESCRIPTION:
URL:https://gregoryburrusproductions.com/event/leonieke-scheuble-trio-in-njpac-newark-mulberry-commons/
LOCATION:Mulberry Commons Newark\, Mulberry St\, Newark\, New Jersey\, 07102\, United States
ATTACH;FMTTYPE=image/jpeg:https://gregoryburrusproductions.com/wp-content/uploads/2021/04/gregory-burrus-nick-scheuble-and-leonieke-scheuble-at-clements-place-jazz.jpg
ORGANIZER;CN="Gregory Burrus Productions":MAILTO:answers@techoss.com
END:VEVENT
BEGIN:VEVENT
DTSTART;TZID=America/New_York:20220805T190000
DTEND;TZID=America/New_York:20220805T220000
DTSTAMP:20260425T075420
CREATED:20220721T125755Z
LAST-MODIFIED:20220805T192037Z
UID:10000167-1659726000-1659736800@gregoryburrusproductions.com
SUMMARY:Cancelled Jazzy Nights Presents MPACK BAND -Lets Dance
DESCRIPTION:First Fridays R&B with MPACK BAND
URL:https://gregoryburrusproductions.com/event/jazzy-nights-presents-mpack-band-lets-dance/
LOCATION:South Valley BBQ and Lounge\, 34 S Valley Rd\,\, West Orange\, NJ 07052\, NJ\, 07052
ATTACH;FMTTYPE=image/jpeg:https://gregoryburrusproductions.com/wp-content/uploads/2022/06/ClarenceConover.jpg
ORGANIZER;CN="Gregory Burrus Productions":MAILTO:answers@techoss.com
END:VEVENT
BEGIN:VEVENT
DTSTART;TZID=America/New_York:20220807T150000
DTEND;TZID=America/New_York:20220807T180000
DTSTAMP:20260425T075420
CREATED:20220624T045148Z
LAST-MODIFIED:20220804T091140Z
UID:10000153-1659884400-1659895200@gregoryburrusproductions.com
SUMMARY:Sunday Jazz at the Gazebo
DESCRIPTION:Sunday Jazz at the Gazebo
URL:https://gregoryburrusproductions.com/event/sunday-jazz-at-the-gazebo-2/
LOCATION:Springfield Avenue Gazebo\, 1662 Springfield Ave\, Maplewood\, New Jersey\, 07040\, United States
ORGANIZER;CN="Gregory Burrus Productions":MAILTO:answers@techoss.com
END:VEVENT
BEGIN:VEVENT
DTSTART;TZID=America/New_York:20220808T170000
DTEND;TZID=America/New_York:20220808T180000
DTSTAMP:20260425T075420
CREATED:20220727T023931Z
LAST-MODIFIED:20220727T023931Z
UID:10000171-1659978000-1659981600@gregoryburrusproductions.com
SUMMARY:Dre Barnes Trio in NJPAC Music & Movement at Riverfront Park
DESCRIPTION:Ethan O’Reiiley Bass  \n\n\n\nDwayne Cook Broadneux Drums
URL:https://gregoryburrusproductions.com/event/dre-barnes-trio-in-njpac-music-movement-at-riverfront-park/
LOCATION:Newark Riverfront Park \, Somme Street Entrance\, Newark\,\, New Jersey\, 07105\, United States
ATTACH;FMTTYPE=image/jpeg:https://gregoryburrusproductions.com/wp-content/uploads/2022/07/dre-barnes-image.jpeg
ORGANIZER;CN="Gregory Burrus Productions":MAILTO:answers@techoss.com
END:VEVENT
BEGIN:VEVENT
DTSTART;TZID=America/New_York:20220809T170000
DTEND;TZID=America/New_York:20220809T180000
DTSTAMP:20260425T075420
CREATED:20220727T035549Z
LAST-MODIFIED:20220804T091217Z
UID:10000177-1660064400-1660068000@gregoryburrusproductions.com
SUMMARY:Harmonic Convergence in NJPAC MUSIC & MOVEMENT Series
DESCRIPTION:
URL:https://gregoryburrusproductions.com/event/harmonic-convergence-in-njpac-music-movement-series-2/
LOCATION:Washington Park\, 33 Washington St\, Newark\, NJ\, 07102\, United States
ATTACH;FMTTYPE=image/jpeg:https://gregoryburrusproductions.com/wp-content/uploads/2022/07/Alex-Des.jpg
ORGANIZER;CN="Gregory Burrus Productions":MAILTO:answers@techoss.com
END:VEVENT
BEGIN:VEVENT
DTSTART;TZID=America/New_York:20220810T123000
DTEND;TZID=America/New_York:20220810T163000
DTSTAMP:20260425T075420
CREATED:20220624T022654Z
LAST-MODIFIED:20220727T025641Z
UID:10000129-1660134600-1660149000@gregoryburrusproductions.com
SUMMARY:MPACK Jamming at the Orange Farmers Market￼
DESCRIPTION:MPACK Jamming at the Orange Farmers Market on the grass on Main Street Across from McDonalds Come sing or play your instrument today till 4:30 pm
URL:https://gregoryburrusproductions.com/event/mpack-jamming-at-the-orange-farmers-market%ef%bf%bc/
LOCATION:City of Orange – On the Green\, 145-147 S Main St\, City of Orange\, NJ\, 07050\, United States
ATTACH;FMTTYPE=image/jpeg:https://gregoryburrusproductions.com/wp-content/uploads/2021/01/mpac-1_moment10-e1610416263265.jpg
ORGANIZER;CN="Gregory Burrus Productions":MAILTO:answers@techoss.com
END:VEVENT
BEGIN:VEVENT
DTSTART;TZID=America/New_York:20220811T120000
DTEND;TZID=America/New_York:20220811T130000
DTSTAMP:20260425T075420
CREATED:20220727T025405Z
LAST-MODIFIED:20220727T025405Z
UID:10000172-1660219200-1660222800@gregoryburrusproductions.com
SUMMARY:Lynette Sheard Live in Military Park for NJPAC MUSIC & MOVEMENT Series
DESCRIPTION:Thursday\, August 11\, 2022 Military Park MUSIC & MOVEMENT 12:00 PM 1:00 PM Lynette Sheard Live \n\n\n\nThursday\, August 11\, 2022 Military Park MUSIC & MOVEMENT 12:00 PM 1:00 PM Lynette Sheard Live
URL:https://gregoryburrusproductions.com/event/lynette-sheard-live-in-military-park-for-njpac-music-movement-series/
LOCATION:Military Park\, Newark\, 55 Park Pl\, NJ\, 07102\, United States
ATTACH;FMTTYPE=image/jpeg:https://gregoryburrusproductions.com/wp-content/uploads/2022/06/lYNETTE-sHEARD.jpg
END:VEVENT
BEGIN:VEVENT
DTSTART;TZID=America/New_York:20220811T180000
DTEND;TZID=America/New_York:20220811T203000
DTSTAMP:20260425T075420
CREATED:20220624T041331Z
LAST-MODIFIED:20230712T212417Z
UID:10000149-1660240800-1660249800@gregoryburrusproductions.com
SUMMARY:Cranford Summer Sounds The Genesse Stills
DESCRIPTION:Cranford Summer Sounds The Genesse Stills in Cranford NJ
URL:https://gregoryburrusproductions.com/event/cranford-summer-sounds-the-genesse-stills/
LOCATION:Eastman Clock Plaza Park\, N Union Ave\, Cranford\, NJ\, 07016\, United States
ATTACH;FMTTYPE=image/jpeg:https://gregoryburrusproductions.com/wp-content/uploads/2022/06/Gnesse-Stills-Band-in-Cranford-prod-by-Gregory-Burrus.jpg
ORGANIZER;CN="Gregory Burrus Productions":MAILTO:answers@techoss.com
END:VEVENT
BEGIN:VEVENT
DTSTART;TZID=America/New_York:20220814T150000
DTEND;TZID=America/New_York:20220814T180000
DTSTAMP:20260425T075420
CREATED:20220624T044925Z
LAST-MODIFIED:20220726T204935Z
UID:10000152-1660489200-1660500000@gregoryburrusproductions.com
SUMMARY:Sunday Jazz at the Maplewood Gazebo
DESCRIPTION:Sunday Jazz Jamming at the Gazebo
URL:https://gregoryburrusproductions.com/event/sunday-jazz-at-the-gazebo/
LOCATION:Springfield Avenue Gazebo\, 1662 Springfield Ave\, Maplewood\, New Jersey\, 07040\, United States
ATTACH;FMTTYPE=image/png:https://gregoryburrusproductions.com/wp-content/uploads/2022/06/SUNDAY-JAZZ-SERIES-FLYER-2-1.png
ORGANIZER;CN="Gregory Burrus Productions":MAILTO:answers@techoss.com
END:VEVENT
END:VCALENDAR