BEGIN:VCALENDAR
VERSION:2.0
PRODID:-//Gregory Burrus Productions - ECPv6.15.20//NONSGML v1.0//EN
CALSCALE:GREGORIAN
METHOD:PUBLISH
X-WR-CALNAME:Gregory Burrus Productions
X-ORIGINAL-URL:https://gregoryburrusproductions.com
X-WR-CALDESC:Events for Gregory Burrus Productions
REFRESH-INTERVAL;VALUE=DURATION:PT1H
X-Robots-Tag:noindex
X-PUBLISHED-TTL:PT1H
BEGIN:VTIMEZONE
TZID:America/New_York
BEGIN:DAYLIGHT
TZOFFSETFROM:-0500
TZOFFSETTO:-0400
TZNAME:EDT
DTSTART:20240310T070000
END:DAYLIGHT
BEGIN:STANDARD
TZOFFSETFROM:-0400
TZOFFSETTO:-0500
TZNAME:EST
DTSTART:20241103T060000
END:STANDARD
BEGIN:DAYLIGHT
TZOFFSETFROM:-0500
TZOFFSETTO:-0400
TZNAME:EDT
DTSTART:20250309T070000
END:DAYLIGHT
BEGIN:STANDARD
TZOFFSETFROM:-0400
TZOFFSETTO:-0500
TZNAME:EST
DTSTART:20251102T060000
END:STANDARD
BEGIN:DAYLIGHT
TZOFFSETFROM:-0500
TZOFFSETTO:-0400
TZNAME:EDT
DTSTART:20260308T070000
END:DAYLIGHT
BEGIN:STANDARD
TZOFFSETFROM:-0400
TZOFFSETTO:-0500
TZNAME:EST
DTSTART:20261101T060000
END:STANDARD
END:VTIMEZONE
BEGIN:VEVENT
DTSTART;TZID=America/New_York:20250604T180000
DTEND;TZID=America/New_York:20250604T190000
DTSTAMP:20260425T220253
CREATED:20250509T200916Z
LAST-MODIFIED:20250515T152128Z
UID:10002433-1749060000-1749063600@gregoryburrusproductions.com
SUMMARY:Lynette Sheard in Juneteenth Event Emotional Emancipation  Union County Library
DESCRIPTION:Juneteenth Concert- Emotional Emancipation Union County Library 1060 Stuyvesant Ave\, Union NJ- No Charge \n\n\n\n\n\nEMOTIONAL EMANCIPATION \n\n\n\nA Juneteenth performance entitled Emotional Emancipation \n\n\n\nAfrican American communities have used music and art; sometimes in place of written communication\, to discuss life\, death\, spiritual philosophies\, and emotions to cope with the traumas that came with being enslaved.  This interactive and engaging performance will feature popular freedom songs that demonstrate the joy\, sorrow\, pain\, inspiration\, discontent\, and hope experienced by African Americans on their continued journey towards healing and emotional emancipation. \n\n\n\n Lynette Sheard who is a sought-after singer\, actor\, and producer whose performances have been lauded in numerous publications including The Star-Ledger\, which proclaimed that “Her voice reaches deep into one’s soul and finds a soft spot”. She performs Jazz\, Blues\, R&B\, Gospel\, Soul\, and Pop music. Theater credits include principal roles in Dream Girls\, Smokey Joe’s Café\, Ragtime\, Swing\, Aida\, For Colored Girls\, A Raisin in the Sun\, and Avenue Q. In 2017 she was inducted into the “Encyclopedia of Newark Jazz.  Lynette is also Director of the national award-winning NJ Mental Health Players and a Community Education Coordinator at the Mental Health Association in New Jersey \n\n\n\n\n\n\n\n\nView Event
URL:https://gregoryburrusproductions.com/event/lynette-sheard-in-juneteenth-event-emotional-emancipation-union-county-library/
LOCATION:Union Public Library – Vauxhall Branch\, 123 Hilton Avenue\, Vauxhauk\, New Jersey\, 07088\, United States
ATTACH;FMTTYPE=image/jpeg:https://gregoryburrusproductions.com/wp-content/uploads/2025/03/1000011347.jpg
END:VEVENT
BEGIN:VEVENT
DTSTART;TZID=America/New_York:20250607T200000
DTEND;TZID=America/New_York:20250607T213000
DTSTAMP:20260425T220253
CREATED:20250606T021339Z
LAST-MODIFIED:20250606T024149Z
UID:10002470-1749326400-1749331800@gregoryburrusproductions.com
SUMMARY:Grammy Award Winner Jeff Lorber & 15-time Detroit Music Award winner Alexander Zonjic
DESCRIPTION:Turn up the heat with some cool jazz THIS SATURDAY at UCPAC’s Hamilton Stage with Grammy Award winning keyboardist Jeff Lorber & 15-time Detroit Music Award winner Alexander Zonjic – two shows\, 5 & 8 PM! Quench your thirst for cocktails and culture with a stop at the WBGO Piano Lounge featuring Tomoko Ohno on the Fazioli piano one hour before each performance. Tickets range from $68 – $73 (All in Pricing \n\n\n\nBuy tickets https://ucpac.org/event/jeff-lorber-and-alexander-zonjic/ \n\n\n\nproduced by Smoothjazznj.com  \n\n\n\n \n\n\n\n\n\nPromoted by
URL:https://gregoryburrusproductions.com/event/grammy-award-winning-jeff-lorber-15-time-detroit-music-award-winner-alexander-zonjic/
LOCATION:UCPAC Hamilton Stage\, Union County Performing Arts Center\, 360 Hamilton St\, NJ\, Rahway\, NJ\, 07065\, United States
ATTACH;FMTTYPE=image/jpeg:https://gregoryburrusproductions.com/wp-content/uploads/2025/06/1080x1080ZonjicLorber-final-resized-768x768-1.jpg
END:VEVENT
END:VCALENDAR