BEGIN:VCALENDAR
VERSION:2.0
PRODID:-//Gregory Burrus Productions - ECPv6.15.20//NONSGML v1.0//EN
CALSCALE:GREGORIAN
METHOD:PUBLISH
X-ORIGINAL-URL:https://gregoryburrusproductions.com
X-WR-CALDESC:Events for Gregory Burrus Productions
REFRESH-INTERVAL;VALUE=DURATION:PT1H
X-Robots-Tag:noindex
X-PUBLISHED-TTL:PT1H
BEGIN:VTIMEZONE
TZID:America/New_York
BEGIN:DAYLIGHT
TZOFFSETFROM:-0500
TZOFFSETTO:-0400
TZNAME:EDT
DTSTART:20240310T070000
END:DAYLIGHT
BEGIN:STANDARD
TZOFFSETFROM:-0400
TZOFFSETTO:-0500
TZNAME:EST
DTSTART:20241103T060000
END:STANDARD
BEGIN:DAYLIGHT
TZOFFSETFROM:-0500
TZOFFSETTO:-0400
TZNAME:EDT
DTSTART:20250309T070000
END:DAYLIGHT
BEGIN:STANDARD
TZOFFSETFROM:-0400
TZOFFSETTO:-0500
TZNAME:EST
DTSTART:20251102T060000
END:STANDARD
BEGIN:DAYLIGHT
TZOFFSETFROM:-0500
TZOFFSETTO:-0400
TZNAME:EDT
DTSTART:20260308T070000
END:DAYLIGHT
BEGIN:STANDARD
TZOFFSETFROM:-0400
TZOFFSETTO:-0500
TZNAME:EST
DTSTART:20261101T060000
END:STANDARD
END:VTIMEZONE
BEGIN:VEVENT
DTSTART;TZID=America/New_York:20250816T120000
DTEND;TZID=America/New_York:20250816T210000
DTSTAMP:20260425T092508
CREATED:20250807T030501Z
LAST-MODIFIED:20250813T111903Z
UID:10002495-1755345600-1755378000@gregoryburrusproductions.com
SUMMARY:Jazz In The Park headlined by Marion Meadows in Patterson NJ w Don Braden -MPack - Tia Holt - We Ani
DESCRIPTION:ESNA 2.0 Presents: Jazz in the Park 2025 – Where Music Meets Movement \n\n\n\n📍 Eastside Park\, 817 14th Avenue\, Paterson\, NJ📅 Saturday\, August 16\, 2025 | 1:00 PM – 9:00 PM🎟️ Free Admission | All Ages | Free Parking \n\n\n\nThe rhythm returns to Paterson! Join ESNA 2.0 for the 2025 edition of Jazz in the Park\, a soulful celebration of music\, culture\, and connection. Set against the lush backdrop of Eastside Park\, this all-day festival invites families\, friends\, and jazz lovers to experience the heartbeat of the city through sound. \n\n\n\n🎶 Festival Highlights \n\n\n\n\n🎺 Live performances from local legends and emerging jazz artists\n\n\n\n🍔 Food trucks and vendors serving up community flavor\n\n\n\n🧘‍♂️ Wellness activations and interactive zones\n\n\n\n🎨 Art\, culture\, and family-friendly activities\n\n\n\n🤝 Hosted by the Eastside Neighborhood Association 2.0\, in partnership with city agencies and private sponsors\n\n\n\n\nWhether you’re dancing in the grass or vibing from your lawn chair\, Jazz in the Park 2025 promises a day of joy\, unity\, and unforgettable grooves. \n\n\n\n📲 Reserve your spot and get updates on the lineup via Eventbrite \n\n\n\nhttps://www.eventbrite.com/e/esna-20-jazz-in-the-park-2025-registration-1412672805389?aff=grrgoryburrusproductions
URL:https://gregoryburrusproductions.com/event/jazz-in-the-park-headlined-by-marion-meadows-in-patterson-nj-2/
LOCATION:Eastside Park\, Lower Field\, Patterson\, New Jersey\, 07514\, United States
CATEGORIES:Art and Entertainment,Commnity,Jazz,Live Music
ATTACH;FMTTYPE=image/jpeg:https://gregoryburrusproductions.com/wp-content/uploads/2025/08/PATTERSON-jAZZ-IN-THE-pARK-fESTIVAL-.jpg
END:VEVENT
END:VCALENDAR