BEGIN:VCALENDAR
VERSION:2.0
PRODID:-//Gregory Burrus Productions - ECPv6.15.20//NONSGML v1.0//EN
CALSCALE:GREGORIAN
METHOD:PUBLISH
X-WR-CALNAME:Gregory Burrus Productions
X-ORIGINAL-URL:https://gregoryburrusproductions.com
X-WR-CALDESC:Events for Gregory Burrus Productions
REFRESH-INTERVAL;VALUE=DURATION:PT1H
X-Robots-Tag:noindex
X-PUBLISHED-TTL:PT1H
BEGIN:VTIMEZONE
TZID:America/New_York
BEGIN:DAYLIGHT
TZOFFSETFROM:-0500
TZOFFSETTO:-0400
TZNAME:EDT
DTSTART:20250309T070000
END:DAYLIGHT
BEGIN:STANDARD
TZOFFSETFROM:-0400
TZOFFSETTO:-0500
TZNAME:EST
DTSTART:20251102T060000
END:STANDARD
BEGIN:DAYLIGHT
TZOFFSETFROM:-0500
TZOFFSETTO:-0400
TZNAME:EDT
DTSTART:20260308T070000
END:DAYLIGHT
BEGIN:STANDARD
TZOFFSETFROM:-0400
TZOFFSETTO:-0500
TZNAME:EST
DTSTART:20261101T060000
END:STANDARD
BEGIN:DAYLIGHT
TZOFFSETFROM:-0500
TZOFFSETTO:-0400
TZNAME:EDT
DTSTART:20270314T070000
END:DAYLIGHT
BEGIN:STANDARD
TZOFFSETFROM:-0400
TZOFFSETTO:-0500
TZNAME:EST
DTSTART:20271107T060000
END:STANDARD
END:VTIMEZONE
BEGIN:VEVENT
DTSTART;TZID=America/New_York:20260426T113000
DTEND;TZID=America/New_York:20260426T130000
DTSTAMP:20260425T091923
CREATED:20260419T113648Z
LAST-MODIFIED:20260419T113651Z
UID:10002680-1777203000-1777208400@gregoryburrusproductions.com
SUMMARY:Carrie Jackson & Jazzin’ All Stars Band
DESCRIPTION:Jesus & Jazz Presents: Carrie Jackson & Her Jazzin’ All Stars — A Soul‑Stirring Morning of Music\, Faith\, and Community \n\n\n\nJoin us for an inspiring Jesus and Jazz Service featuring the legendary Carrie Jackson & her Jazzin’ All Stars\, bringing their powerful blend of gospel spirit\, jazz tradition\, and soulful storytelling to our community. This uplifting service continues the beloved Jesus & Jazz tradition of uniting music\, ministry\, and fellowship in a joyful Sunday experience. \n\n\n\nLed by the dynamic Rev. Eyesha Marable\, this special gathering invites you to immerse yourself in smooth vibes\, heartfelt praise\, and world‑class musicianship that lifts the spirit and brings people together. Whether you’re a jazz lover\, a worshipper\, or simply seeking a meaningful community moment\, this service offers a morning of joy\, connection\, and inspired sound. \n\n\nRegister on Eventbrite\n\n\nAbout Carrie Jackson & Her Jazzin’ All Stars\n\n\n\nExperience the artistry of an ensemble known for its swing\, soul\, and sacred‑jazz excellence: \n\n\n\n\nCarrie Jackson — vocals A powerhouse vocalist celebrated for her warm tone\, expressive phrasing\, and deep roots in jazz and gospel traditions.\n\n\n\nKatie Cosco — piano A versatile pianist whose elegant touch and harmonic creativity anchor the group’s sound.\n\n\n\nTakashi Otsuka — bass Known for his rich tone and steady groove\, bringing depth and resonance to every performance.\n\n\n\nGreg Bufford — drums A dynamic drummer whose rhythmic drive and sensitivity elevate the ensemble’s swing and spirit.\n\n\n\n\nTogether\, they create a musical experience that is both soulful and electrifying\, perfect for the Jesus & Jazz worship atmosphere. \n\n\n\nWhy This Jesus & Jazz Service Is Special\n\n\n\n\nA unique blend of jazz\, gospel\, and community worship\n\n\n\nSpirit‑filled leadership from Rev. Eyesha Marable\n\n\n\nA chance to gather with friends\, neighbors\, and music lovers\n\n\n\nAn uplifting Sunday morning filled with joy\, artistry\, and connection\n\n\n\n\nBring your friends\, family\, and anyone who loves good music\, great company\, and meaningful community moments. Come soak in the magic of jazz performed by some of the most talented artists in the region. \n\n\n\n  \n\n\n\nJesus & Jazz  Monthly Service:\n\n\n\nJesus & Jazz is held on the 4th Sunday of every month\, led by Rev. Eyesha Marable of Mt. Zion AME Church with music minister Phil Bingham \, offering a unique mix of live jazz\, gospel spirit\, and community worship that has become a signature part of our monthly programming — curated by Gregory Burrus.
URL:https://gregoryburrusproductions.com/event/carrie-jackson-jazzin-all-stars-band-2/
LOCATION:Clements Place Jazz IJS – Ruth Bader Ginsburg Building\, 15 Washington Street\, Newark\, NJ\, United States
ATTACH;FMTTYPE=image/jpeg:https://gregoryburrusproductions.com/wp-content/uploads/2026/04/Jesus-and-Jazz-April-26-2026.jpg
END:VEVENT
END:VCALENDAR