BEGIN:VCALENDAR
VERSION:2.0
PRODID:-//Gregory Burrus Productions - ECPv6.15.20//NONSGML v1.0//EN
CALSCALE:GREGORIAN
METHOD:PUBLISH
X-ORIGINAL-URL:https://gregoryburrusproductions.com
X-WR-CALDESC:Events for Gregory Burrus Productions
REFRESH-INTERVAL;VALUE=DURATION:PT1H
X-Robots-Tag:noindex
X-PUBLISHED-TTL:PT1H
BEGIN:VTIMEZONE
TZID:America/New_York
BEGIN:DAYLIGHT
TZOFFSETFROM:-0500
TZOFFSETTO:-0400
TZNAME:EDT
DTSTART:20240310T070000
END:DAYLIGHT
BEGIN:STANDARD
TZOFFSETFROM:-0400
TZOFFSETTO:-0500
TZNAME:EST
DTSTART:20241103T060000
END:STANDARD
BEGIN:DAYLIGHT
TZOFFSETFROM:-0500
TZOFFSETTO:-0400
TZNAME:EDT
DTSTART:20250309T070000
END:DAYLIGHT
BEGIN:STANDARD
TZOFFSETFROM:-0400
TZOFFSETTO:-0500
TZNAME:EST
DTSTART:20251102T060000
END:STANDARD
BEGIN:DAYLIGHT
TZOFFSETFROM:-0500
TZOFFSETTO:-0400
TZNAME:EDT
DTSTART:20260308T070000
END:DAYLIGHT
BEGIN:STANDARD
TZOFFSETFROM:-0400
TZOFFSETTO:-0500
TZNAME:EST
DTSTART:20261101T060000
END:STANDARD
END:VTIMEZONE
BEGIN:VEVENT
DTSTART;TZID=America/New_York:20250821T180000
DTEND;TZID=America/New_York:20250821T200000
DTSTAMP:20260425T105741
CREATED:20250325T052317Z
LAST-MODIFIED:20250325T052317Z
UID:10002372-1755799200-1755806400@gregoryburrusproductions.com
SUMMARY:2025 Cranford Summer Sounds featuring The Genesse Stills Band
DESCRIPTION:Cranford Summer Sounds featuring Genesee Stills Band\n\n\n\nCranford Summer Sounds is a concert series that takes place at Eastman Clock Plaza in downtown Cranford\, New Jersey on Thursdays from 6–8:00 PM. \n\n\n\n\n\nGenesee Stills is a 5 piece\, Grassroots\, Americana style band perfect for festivals\, wineries\, and community concert events. Audiences will hear selections from The Eagles\, Grateful Dead\, Paul Simon\, James Taylor\, The Band and many more.
URL:https://gregoryburrusproductions.com/event/2025-cranford-summer-sounds-featuring-the-genesse-stills-band/
LOCATION:Downtown Cranford Clock\, N Union Ave\, Cranford\, NJ 07016\, Cranford\, New Jersey\, United States
CATEGORIES:Art and Entertainment,Commnity,Live Music
ATTACH;FMTTYPE=image/jpeg:https://gregoryburrusproductions.com/wp-content/uploads/2023/05/20230713-Cranford-Genesee-Stills.jpg
END:VEVENT
BEGIN:VEVENT
DTSTART;TZID=America/New_York:20250824T113000
DTEND;TZID=America/New_York:20250824T133000
DTSTAMP:20260425T105741
CREATED:20250722T053839Z
LAST-MODIFIED:20250810T103547Z
UID:10002487-1756035000-1756042200@gregoryburrusproductions.com
SUMMARY:Jesus and Jazz Presents Generations of Jazz feat. Rising Star Pianist Leonieke Scheuble\, Bill Crow\, Marel Hidalgo and Nick Scheuble
DESCRIPTION:🌟 Pastor Eyesha Marable & Mt. Zion AME Church Present 🎶 Jesus and Jazz — A Service of Praise\, Power & Jazz \n\n\n\n\n\nJoin us Sunday Aug 24 for a spirit-filled musical celebration as we welcome legendary the Generations of Jazz Quartet. From gospel love messages\, mental health inspirations to soulful jazz music\, this service will be anointed with rhythm and reverence. Come expecting joy\, inspiration\, and the music that ministers to your soul.  \n\n\nRegister on Eventbrite\n\n\n📍 Sunday\, August 24 | 11:30 AM  – 1:30 PM \n\n\n\n🎶Jesus and Jazz at Mt Zion AME Church – An inspirational uplift of Spirit\, Mind and Body featuring the dynamic Eyesha Marable and the Rising Star Jazz Pianist Leonieke Scheuble and her Generation of Jazz Quartet. 📍 56 Church Street\, Milburn\, NJ 🎟️ Free & open to all. \n\n\n\nLineup  \n\n\n\nPianist Leonieke Scheuble\n\n\n\n\n\n\n\nPianist and organist Leonieke Scheuble is a rising star whose soulful touch and inventive phrasing have earned her a place among New Jersey’s most compelling jazz voices. From solo piano sets at Union County Performing Arts Center to dynamic trio performances at Shanghai Jazz\, Leonieke’s artistry bridges generations and genres. Her Generations of Jazz series—featuring legends like Bill Crow and her father\, drummer Nick Scheuble—celebrates the timeless spirit of hard bop while spotlighting her own original compositions. Whether leading a classic trio or collaborating with vocalists and horn players\, Leonieke brings elegance\, swing\, and a deep reverence for jazz history to every stage she graces. \n\n\n\nBassist Bill Crow\n\n\n\n\n\n\n\nLegendary jazz bassist Bill Crow is a living bridge between eras\, having played with icons like Gerry Mulligan\, Stan Getz\, Benny Goodman\, and Marian McPartland since the 1950s. With a career spanning over seven decades\, Crow’s deep swing and storytelling bass lines have anchored countless ensembles\, from smoky club quartets to Broadway pit orchestras. At 97\, he’s still performing—most notably with Leonieke Scheuble’s Generations of Jazz Trio\, where his timeless groove continues to inspire new audiences. Whether on stage or in print (he’s also the author of Jazz Anecdotes)\, Bill Crow remains a cherished voice in the rhythm section and in jazz history itself \n\n\n\nGuitarist Marel Hidalgo \n\n\n\n\n\n\n\nSixteen-year-old guitarist Marel Hidalgo is redefining jazz fusion with a vibrant blend of Caribbean rhythms\, Latin flair\, and classic jazz standards. Hailing from Bradley Beach\, NJ\, Marel has performed everywhere from the Exit Zero Jazz Festival to Bryant Park’s New York Guitar Festival\, where he paid tribute to Jamaican legend Ernest Ranglin. His quartet’s recent show at Terraza 7 showcased a powerful journey through the African diaspora\, while his upcoming appearance at the Morris County Library in April 2026 celebrated Jazz Appreciation Month. Whether soloing on “Cherokee” or grooving through calypso and ska\, Marel’s artistry bridges generations—making him a natural fit for cross-cultural series and this  Generations of Jazz event. \n\n\n\n \n\n\n\nDrummer Nick Scheuble\n\n\n\n\n\n\n\nJazz master Nick Scheuble is lighting up New Jersey’s stages this season with soul-stirring performances that span the region’s most iconic venues. Whether driving the groove with Leonieke Scheuble’s Classic Trio or honoring the legacy of bassist Bill Crow in the Generations of Jazz series\, Nick brings a rhythmic storytelling that bridges past and present. Catch him live around New  Jersey and more. From hard bop fireworks to organ trio warmth\, Nick’s artistry keeps jazz history alive—one beat at a time. \n\n\n\n \n\n\n\nCome experience the fusion of Jesus and Jazz featuring Radam Schwartz and friends as they uplift your spirits and leave you feeling inspired. \n\n\n\nLet the Spirit move and the music uplift — Jesus and Jazz is calling! 💫
URL:https://gregoryburrusproductions.com/event/jesus-and-jazz-presents-generations-of-jazz-feat-rising-star-pianist-leonieke-scheuble-bill-crow-marel-hidalgo-and-nick-scheuble/
LOCATION:Mt Zion AME Church\, 54 Church Street\, Milburn\, New Jersey\, United States
CATEGORIES:Art and Entertainment,Jesus and Jazz
ATTACH;FMTTYPE=image/jpeg:https://gregoryburrusproductions.com/wp-content/uploads/2025/07/Jesus-and-Jazz-2024.jpg
END:VEVENT
END:VCALENDAR