BEGIN:VCALENDAR
VERSION:2.0
PRODID:-//Gregory Burrus Productions - ECPv6.15.20//NONSGML v1.0//EN
CALSCALE:GREGORIAN
METHOD:PUBLISH
X-ORIGINAL-URL:https://gregoryburrusproductions.com
X-WR-CALDESC:Events for Gregory Burrus Productions
REFRESH-INTERVAL;VALUE=DURATION:PT1H
X-Robots-Tag:noindex
X-PUBLISHED-TTL:PT1H
BEGIN:VTIMEZONE
TZID:America/New_York
BEGIN:DAYLIGHT
TZOFFSETFROM:-0500
TZOFFSETTO:-0400
TZNAME:EDT
DTSTART:20240310T070000
END:DAYLIGHT
BEGIN:STANDARD
TZOFFSETFROM:-0400
TZOFFSETTO:-0500
TZNAME:EST
DTSTART:20241103T060000
END:STANDARD
BEGIN:DAYLIGHT
TZOFFSETFROM:-0500
TZOFFSETTO:-0400
TZNAME:EDT
DTSTART:20250309T070000
END:DAYLIGHT
BEGIN:STANDARD
TZOFFSETFROM:-0400
TZOFFSETTO:-0500
TZNAME:EST
DTSTART:20251102T060000
END:STANDARD
BEGIN:DAYLIGHT
TZOFFSETFROM:-0500
TZOFFSETTO:-0400
TZNAME:EDT
DTSTART:20260308T070000
END:DAYLIGHT
BEGIN:STANDARD
TZOFFSETFROM:-0400
TZOFFSETTO:-0500
TZNAME:EST
DTSTART:20261101T060000
END:STANDARD
END:VTIMEZONE
BEGIN:VEVENT
DTSTART;TZID=America/New_York:20250830T170000
DTEND;TZID=America/New_York:20250830T200000
DTSTAMP:20260425T123531
CREATED:20250814T180451Z
LAST-MODIFIED:20250814T180453Z
UID:10002500-1756573200-1756584000@gregoryburrusproductions.com
SUMMARY:MPack in Maplewood Village Summer Streets 2025
DESCRIPTION:MPack Music\n\n\n\n\n\n\n\n🎸 MPack Band: Life-Changing Sounds in Motion\n\n\n\nMPack is more than a band—it’s a musical movement. Led by multi-instrumentalist and vocalist Clarence “Groove Master” Conover\, MPack fuses funk\, jazz\, blues\, fusion\, neo-soul\, and R&B into a genre-defying experience that elevates mind\, body\, and soul. With roots in the Philly sound and a resume that includes performances with legends like Patti LaBelle\, Teddy Pendergrass\, and Grover Washington Jr.\, MPack delivers a dynamic\, ever-evolving sound that’s as thought-provoking as it is dance-inducing. \n\n\n\nFollow their journey and groove with them on Instagram: @mpack_music
URL:https://gregoryburrusproductions.com/event/mpack-in-maplewood-village-summer-streets-2025/
LOCATION:Maplewood Village\, Highland Place and Maplewood Ave\, Maplewood\, NJ\, 07040\, United States
ATTACH;FMTTYPE=image/jpeg:https://gregoryburrusproductions.com/wp-content/uploads/2025/08/5_20250814_075555_0002.jpg
END:VEVENT
BEGIN:VEVENT
DTSTART;TZID=America/New_York:20250831T120000
DTEND;TZID=America/New_York:20250831T170000
DTSTAMP:20260425T123531
CREATED:20250831T115539Z
LAST-MODIFIED:20250831T115541Z
UID:10002511-1756641600-1756659600@gregoryburrusproductions.com
SUMMARY:Maplewood Porch Fest 2025 Gregory Burrus Productions Jazz Band Plus Selections
DESCRIPTION:Every year I get asked\, especially by my Jazz loving folks\, who you going to see at Porchfest. Well it 70.bands over almost 40 porches so lots of great music all day. So get to the Maplewood Hilton Neighborhood and just wander. Mark a few favorites and try to see them. It’s a fun day.  \n\n\n\n \n\n\n\n2025 Maplewood Porchfest\n\n\n\nHONK PARADE\n\n\n\nHonk Parade at 12 Noon at Dehart Park – Check Schedule \n\n\n\nFolks get together and parade. Bring a noise maker and join in the fun. Extremely family friendly few block walk. \n\n\n\n\n\n\n\nThis is like a great starting point. \n\n\n\ni am usually here first.  Once walk is over head to your bands.  \n\n\n\nComplete Festival Schedule is here.  \n\n\n\nhttps://www.maplewoodporchfest.com/schedule \n\n\n\nAnnual Gregory Burrus Productions Jazz Picks and Favorite Bands. \n\n\n\nMy Jazz Selections.. If you are near them\,  check them out  \n\n\n\nPorchfest 2025 Jazz  Bands  \n\n\n\n \n\n\n\n\n\n24 1 – 3 PM Meant to Be (Jazz)  770 Prospect St (corner of Franklin) \n\n\n\n\n\n\n\n3 – 5 pm  U.LT.R.A.S. (Jazz fusion) 154 Lexington Ave \n\n\n\n17 1 – 2 PM  The Jazz Express/Ed Palermo (Jazz) 16 Princeton St  -Hilton) \n\n\n\n9  3 – 5 PM  Blue Sphere (Jazz\, funk and pop tunes) 30 Newark Way \n\n\n\nEnd of Day Favorite  \n\n\n\nWhere I always end up at end of the day  \n\n\n\n\n\n\n\n32 3 – 5 PM 45 Wellesley St \n\n\n\n\n\n\n\nPorchfest 2022 \n\n\n\n.Big Train (Horn-infused R&B + soul classics. Hope to see you here  \n\n\n\nOther Maplewood Porchfest Favorites  \n\n\n\n\n\n\n\n \n\n\n\n\n\n\n\n37 1 – 3 pm 16 Revere Ave LAREDO  (Rock and blues & country folk) \n\n\n\n\n\n\n\n14 2 – 3 PM 56 Hilton Ave.The Accelerators (Original Power Pop Garage Rock) \n\n\n\n\n\n\n\n20  1 – 3 p 180 Indiana St ( Hilton) David Easton Band (Funk and Jazz infused rock \n\n\n\n6  1 – 3 PM   174 Jacoby St Adam Gustavson (Blues/Jazz/Old time country \n\n\n\nRemember there are 70 bands over 40 porches. So don’t get overwhelmed. \n\n\n\nHence pick what you like\, park\, start walking\, ride your bike\, take the bus or drive from place to place. \n\n\n\n \n\n\n\nBring a lawn chair as a rest stop.along the way.  \n\n\n\n \n\n\n\nEnter off Springfield and Burnett by the Gazebo and head down to any address.  \n\n\n\nHOPE TO SEE YOU
URL:https://gregoryburrusproductions.com/event/maplewood-porch-fest-2025-gregory-burrus-productions-jazz-band-plus-selections/
LOCATION:NJ
ATTACH;FMTTYPE=image/jpeg:https://gregoryburrusproductions.com/wp-content/uploads/2025/08/SteveLeBlanc-IMG_2471.jpg
END:VEVENT
END:VCALENDAR