BEGIN:VCALENDAR
VERSION:2.0
PRODID:-//Gregory Burrus Productions - ECPv6.15.20//NONSGML v1.0//EN
CALSCALE:GREGORIAN
METHOD:PUBLISH
X-ORIGINAL-URL:https://gregoryburrusproductions.com
X-WR-CALDESC:Events for Gregory Burrus Productions
REFRESH-INTERVAL;VALUE=DURATION:PT1H
X-Robots-Tag:noindex
X-PUBLISHED-TTL:PT1H
BEGIN:VTIMEZONE
TZID:America/New_York
BEGIN:DAYLIGHT
TZOFFSETFROM:-0500
TZOFFSETTO:-0400
TZNAME:EDT
DTSTART:20240310T070000
END:DAYLIGHT
BEGIN:STANDARD
TZOFFSETFROM:-0400
TZOFFSETTO:-0500
TZNAME:EST
DTSTART:20241103T060000
END:STANDARD
BEGIN:DAYLIGHT
TZOFFSETFROM:-0500
TZOFFSETTO:-0400
TZNAME:EDT
DTSTART:20250309T070000
END:DAYLIGHT
BEGIN:STANDARD
TZOFFSETFROM:-0400
TZOFFSETTO:-0500
TZNAME:EST
DTSTART:20251102T060000
END:STANDARD
BEGIN:DAYLIGHT
TZOFFSETFROM:-0500
TZOFFSETTO:-0400
TZNAME:EDT
DTSTART:20260308T070000
END:DAYLIGHT
BEGIN:STANDARD
TZOFFSETFROM:-0400
TZOFFSETTO:-0500
TZNAME:EST
DTSTART:20261101T060000
END:STANDARD
END:VTIMEZONE
BEGIN:VEVENT
DTSTART;TZID=America/New_York:20250807T180000
DTEND;TZID=America/New_York:20250807T200000
DTSTAMP:20260425T190138
CREATED:20250721T141204Z
LAST-MODIFIED:20250721T143712Z
UID:10002486-1754589600-1754596800@gregoryburrusproductions.com
SUMMARY:Carlos Frias and Circulo Social in Downtown Cranford Summer Sounds
DESCRIPTION:Thursday Aug 7th  – Join Us for  the\n\n\n\nLatin and World Music of Carlos Frias and Circulo Social\n\n\n\nSummer Sounds: Carlos Frias & Circulo Social Live in Downtown Cranford! Presented by Downtown Cranford \n\n\n\nJoin us on Thursday\, August 7 from 6–8 PM at Eastman Clock Plaza for an unforgettable evening of Latin-infused jazz\, World Music\, soul\, and community rhythm with Carlos Frias & Circulo Social. This dynamic ensemble blends Afro-Caribbean grooves\, smooth vocals\, and vibrant instrumentation into a sound that’s both timeless and electrifying. \n\n\n\nWhether you’re dancing in the plaza or relaxing with neighbors\, this free outdoor concert is the perfect way to celebrate summer in the heart of Cranford. \n\n\n\n \n\n\n\n\n\n\n\n v  \n\n\n\n📍 Eastman Clock Plaza\, N Union Ave\, Cranford\, NJ 📅 Thursday\, August 7 | 6:00–8:00 PM 🎟️ Free & Open to All 🪑 Bring your lawn chairs\, good vibes\, and dancing shoes! 🎉 Sponsored by Cranford Golf Studio\, Brighton Air Corp\, Garlic Rose Bistro\, Sheet Metal Workers Local 22 & Martin Jewelers \n\n\n\nGPS:     5 Eastman St\, Cranford\, NJ 07016
URL:https://gregoryburrusproductions.com/event/carlos-frias-and-circulo-social-in-downtown-cranford-summer-sounds/
LOCATION:Downtown Cranford Clock\, N Union Ave\, Cranford\, NJ 07016\, Cranford\, New Jersey\, United States
CATEGORIES:Art and Entertainment,Latin Jazz,Live Music,MAPSO
ATTACH;FMTTYPE=image/jpeg:https://gregoryburrusproductions.com/wp-content/uploads/2025/07/Cranfor-Carlos-Frias-and-circulo-Socil.jpg
END:VEVENT
BEGIN:VEVENT
DTSTART;TZID=America/New_York:20250807T193000
DTEND;TZID=America/New_York:20250807T210000
DTSTAMP:20260425T190138
CREATED:20250320T205000Z
LAST-MODIFIED:20250320T205000Z
UID:10002385-1754595000-1754600400@gregoryburrusproductions.com
SUMMARY:Morris Museum - Back Deck Presents Cuareto Latin Americano
DESCRIPTION:Back Deck Presents Cuareto Latin Americano\n\n\n\n\n\nCuarteto Latinoamericano is a renowned string quartet from Mexico\, celebrated for their dedication to Latin American music. Founded in 1981\, the ensemble has toured extensively across Europe\, the Americas\, Israel\, China\, Japan\, and New Zealand. They are known for premiering over 100 works written specifically for them and for introducing audiences to both new and overlooked composers. \n\n\n\nThe quartet has received numerous accolades\, including two Latin Grammy Awards for Best Classical Album. Their repertoire includes works by composers like Heitor Villa-Lobos\, Silvestre Revueltas\, and Alberto Ginastera. The group consists of three Bitrán brothers—Saúl (violin)\, Arón (violin)\, and Alvaro (cello)—along with violist Javier Montiel. \n\n\n\nTheir performances are a blend of technical mastery and cultural richness\, making them a leading voice in classical music with a Latin American focus. \n\n\n\nThe Back Deck Returns!\n\n\n\nEntering its sixth year\, the popular Back Deck concert series returns with a robust season of performances featuring big international names and regional superstars in jazz\, classical\, and genres in-between. Under the direction of Producer Gregory Burrus\, the 2025 season promises a dynamic variety of memorable concerts under the stars. Patrons are invited to bring chairs\, set up picnics\, and enjoy the sunset for this special program. \n\n\n\nSince launching in July 2020\, The Back Deck has presented over 72 performances of critically acclaimed artists\, welcomed more than 11\,000 patrons\, and received critical praise from local and national media. The series has presented established artists and rising stars with several ensembles going on to receive national acclaim. Now an established part of the regional cultural landscape\, the Museum’s elevated parking deck has become known for elegant tailgates and world-class music each summer. \n\n\n\nClick here for details Morris Museum Back Deck Concerts  \n\n\n\nTickets go on sale April 14 (for museum members) and April 21 (general public).
URL:https://gregoryburrusproductions.com/event/morris-museum-back-deck-presents-cuareto-latin-americano/
LOCATION:Morris Museum\, 6 Normandy Heights Rd\, Morristown\, New Jersey\, 07960\, United States
ATTACH;FMTTYPE=image/jpeg:https://gregoryburrusproductions.com/wp-content/uploads/2025/03/Cuarteto-Latinoamericano-performs-for-the-first-time-with-the-Morris-Museum-Photo-by-Sergio-Yazbek-2.jpg
END:VEVENT
BEGIN:VEVENT
DTSTART;TZID=America/New_York:20250808T190000
DTEND;TZID=America/New_York:20250808T210000
DTSTAMP:20260425T190138
CREATED:20250720T065353Z
LAST-MODIFIED:20250721T014920Z
UID:10002474-1754679600-1754686800@gregoryburrusproductions.com
SUMMARY:MPACK  Music Maplewood Springfield Ave Gazebo
DESCRIPTION:MPACK  \n\n\n\n\n\nArtist/Band: MPACKPerformance date: Friday\, August 8\, 2025Time: 7:00 PM – 9:00 PMLocation: Springfield Avenue Gazebo1662 Springfield Ave\, Maplewood\, NJ 07040 \n\n\n\nLive Music Fridays: MPACK Band Brings the Funk to Maplewood! Presented by Maplewood Arts & Culture \n\n\n\nGet ready to groove under the stars as the MPACK Band takes over the Springfield Avenue Gazebo on Friday\, August 8 from 7–9 PM! Known for their explosive blend of funk\, R&B\, and blues\, MPACK delivers a high-energy performance that turns every park bench into a dance floor. \n\n\n\nLed by multi-instrumentalist Clarence “Groove Master” Conover\, the band features soulful vocals\, tight rhythms\, and smooth keys that keep the crowd moving. Whether you’re a longtime fan or hearing them for the first time\, this is a night of music you won’t forget. \n\n\n\n📍 Springfield Avenue Gazebo 📅 Friday\, August 8 | 7:00–9:00 PM 📌 1688 Springfield Ave\, Maplewood\, NJ 🎟️ Free & Open to All 🪑 Bring your lawn chairs\, picnic baskets\, and dancing shoes! 🍴 Food trucks on site | Kid’s crafts start at 6:30 PM \n\n\n\n \n\n\n\nCurated by Gregory Burrus Productions
URL:https://gregoryburrusproductions.com/event/mpack-music-maplewood-springfield-ave-gazebo/
LOCATION:Springfield Avenue Gazebo\, 1662 Springfield Ave\, Maplewood\, New Jersey\, 07040\, United States
ATTACH;FMTTYPE=image/jpeg:https://gregoryburrusproductions.com/wp-content/uploads/2025/07/1000015610-1-e1752119354762.jpg
END:VEVENT
BEGIN:VEVENT
DTSTART;TZID=America/New_York:20250808T193000
DTEND;TZID=America/New_York:20250808T210000
DTSTAMP:20260425T190138
CREATED:20250320T204910Z
LAST-MODIFIED:20250324T000532Z
UID:10002388-1754681400-1754686800@gregoryburrusproductions.com
SUMMARY:Morris Museum - Back Deck Presents The Alaya Project
DESCRIPTION:Back Deck Presents The Alaya Project\n\n\n\n \n\n\n\n\n\nThe Alaya Project is a unique musical trio based in Oakland\, California\, blending the intricate Carnatic style of Indian classical music with contemporary jazz and funk. The group consists of Rohan Krishnamurthy\, a percussionist and drummer; Prasant Radhakrishnan\, a saxophonist; and Colin Hogan\, a pianist. Together\, they create a fusion of traditional Indian ragas\, Western jazz harmonies\, and rhythmic grooves. \n\n\n\nTheir music explores new textures and perspectives\, reflecting decades of friendship and collaboration across genres and continents. The Alaya Project has been praised for its innovative sound\, which combines the soulful melodies of Carnatic music with the improvisational spirit of jazz and the energy of funk. They have also released a self-titled debut album featuring original compositions and creative interpretations of classics\, like The Beatles’ “Being for the Benefit of Mr. Kite. \n\n\n\nThe Back Deck Returns!\n\n\n\nEntering its sixth year\, the popular Back Deck concert series returns with a robust season of performances featuring big international names and regional superstars in jazz\, classical\, and genres in-between. Under the direction of Producer Gregory Burrus\, the 2025 season promises a dynamic variety of memorable concerts under the stars. Patrons are invited to bring chairs\, set up picnics\, and enjoy the sunset for this special program. \n\n\n\nSince launching in July 2020\, The Back Deck has presented over 72 performances of critically acclaimed artists\, welcomed more than 11\,000 patrons\, and received critical praise from local and national media. The series has presented established artists and rising stars with several ensembles going on to receive national acclaim. Now an established part of the regional cultural landscape\, the Museum’s elevated parking deck has become known for elegant tailgates and world-class music each summer. \n\n\n\nClick here for details Morris Museum Back Deck Concerts  \n\n\n\nTickets go on sale April 14 (for museum members) and April 21 (general public).
URL:https://gregoryburrusproductions.com/event/morris-museum-back-deck-presents-the-alaya-project/
LOCATION:Morris Museum\, 6 Normandy Heights Rd\, Morristown\, New Jersey\, 07960\, United States
ATTACH;FMTTYPE=image/jpeg:https://gregoryburrusproductions.com/wp-content/uploads/2025/03/Indian-percussion-ensemble-The-Alaya-Project-Photo-3.jpg
END:VEVENT
BEGIN:VEVENT
DTSTART;TZID=America/New_York:20250808T193000
DTEND;TZID=America/New_York:20250808T223000
DTSTAMP:20260425T190138
CREATED:20250807T034123Z
LAST-MODIFIED:20250807T035720Z
UID:10002496-1754681400-1754692200@gregoryburrusproductions.com
SUMMARY:Winard Harper and Friends Special  Performance and  Jam at Moore's Lounge
DESCRIPTION:PLEASE NOTE CHANGES TO  LOCATION AND START TIME \n\n\n\n\n\nJersey City\n\n\n\nAug 8th \n\n\n\n🥁 Winard Harper & Friends: A Historic Night of Jazz at Moore’s Lounge \n\n\n\nPresented by Gregory Burrus Productions & NJPAC Community Engagement \n\n\n\n🎷 Special Performance  & Jam Session \n\n\n\n📍 Moore’s Lounge\, 189 Monticello Ave\, Jersey City\, NJ   \n\n\n\n🕖 Doors open at 6:30 PM | Performance  starts at 7:30 PM Jam to Follow.. \n\n\n\n— \n\n\n\n🔥 The Onstage Lineup: A Fusion of Mastery & Soul \n\n\n\n– DRUMS: Winard Harper & Giovanni Fiore   \n\n\n\n– BASS: Anthony Golden & Motoki Mihara   \n\n\n\n– KEYS: Nick Masters   \n\n\n\n– GUITAR: Nobuki Takamen   \n\n\n\n– SAX: Jalin Shiver & Tim Hegerty   \n\n\n\n— \n\n\n\n🏛️ Moore’s Lounge: A Cultural Beacon for Over 50 Years \n\n\n\nOriginally known as Bill & Ruth’s\, Moore’s Lounge has stood as one of Jersey City’s oldest Black-owned businesses since 1968. Under the stewardship of Mrs. Ruth Moore\, it evolved from a neighborhood bar into a sanctuary for jazz lovers\, artists\, and community dreamers. It’s the last of 11 taverns that once lined Monticello Avenue—a living monument to resilience\, creativity\, and soul. \n\n\n\nWith its legendary Friday Fish Fry Jam and Sunday “Meet the Artist” Series\, Moore’s has become a jazz temple where generations gather to celebrate the art form born in America and nurtured in Jersey City. \n\n\n\n— \n\n\n\n🥁 Winard Harper: The Pulse of Jazz Legacy \n\n\n\nBorn in Baltimore in 1962\, Winard Harper was a child prodigy who began drumming at age three and gigging by five. His career spans collaborations with Betty Carter\, Dexter Gordon\, Johnny Griffin\, and Billy Taylor. As co-founder of The Harper Brothers\, Winard helped define post-bop jazz in the late ’80s and early ’90s. \n\n\n\nToday\, he leads the electrifying Jeli Posse\, blending African rhythms with American jazz traditions. At Moore’s Lounge\, he’s not just a performer—he’s a mentor\, curator\, and cultural steward. His jam sessions are more than music—they’re masterclasses in legacy\, community\, and joy. \n\n\n\n— \n\n\n\n🎟️ Why You Can’t Miss This Night \n\n\n\nThis isn’t just a concert—it’s a celebration of history\, artistry\, and the heartbeat of Jersey City jazz. Whether you’re a seasoned aficionado or a curious newcomer\, come experience the magic where legends are made and futures are forged. \n\n\n\n📸 Capture the vibe. Share the joy. Be part of the story. Join Us.  \n\n\n\n \n\n\n\n \n\n\n\n \n\n\n\n \n\n\n\n \n\n\n\n \n\n\n\n \n\n\n\n  \n\n\n\n  \n\n\n\nPresented In Collaboration with New Jersey Performing Arts Center and Gregory Burrus Productions. \n\n\n\n\n\n\n\nNew Jersey Performing Arts Center
URL:https://gregoryburrusproductions.com/event/winard-harper-and-friends-special-performance-and-jam-at-moores-lounge/
LOCATION:Moore’s Lounge\, 189 Monticello Ave\, Jersey City\, New Jersey\, 07304-2501\, United States
CATEGORIES:Art and Entertainment,Commnity,Jazz
ATTACH;FMTTYPE=image/jpeg:https://gregoryburrusproductions.com/wp-content/uploads/2025/08/1000018025.jpg
END:VEVENT
BEGIN:VEVENT
DTSTART;TZID=America/New_York:20250810T150000
DTEND;TZID=America/New_York:20250810T180000
DTSTAMP:20260425T190138
CREATED:20250725T234602Z
LAST-MODIFIED:20250725T234602Z
UID:10002489-1754838000-1754848800@gregoryburrusproductions.com
SUMMARY:Essex Funk feat. Victor Jones in Sunday Gazebo Jazz Series at  the Maplewood Springfield Ave Gazebo
DESCRIPTION:🎷 Sunday Gazebo Jazz Series 🎷Our beloved annual jazz tradition returns August 3 & August 10! \n\n\n\nJoin us at 1668 Springfield Ave\, Maplewood\, NJ for smooth jazz under the gazebo\, shaded seating\, and good vibes.🍴 Plus\, enjoy delicious eats from a wonderful local food truck!🪑 Bring a chair\, bring a friend\, and soak up the sounds of summer. \n\n\nRegister on Eventbrite\n\n\nPresented by Gregory Burrus Productions & Springfield Avenue Partnership.with support  from Finley and Gage & NJPAC Community Engagement  \n\n\n\n\nEssex-Funk-at-Maplewoodstock\n\n\n\nEssex Funk Collective is a high-energy\, genre-blending band rooted in South Orange and Maplewood\, NJ\, known for delivering electrifying performances that fuse funk\, soul\, and R&B into a dancefloor-shaking experience. Their setlists span timeless classics from legends like Stevie Wonder and Earth\, Wind & Fire to modern grooves from H.E.R. and Daniel Caesar. \n\n\n\n\nvictor-jones-\n\n\n\nWhile their current lineup featured drummer is away\, Victor Jones is a world-renowned jazz drummer whose inclusion would elevate any ensemble. Jones has played with legends like Stan Getz and Chaka Khan\, and his style blends technical mastery with deep groove\, making him a perfect fit for Essex Funk’s dynamic sound
URL:https://gregoryburrusproductions.com/event/essex-funk-feat-victor-jones-in-sunday-gazebo-jazz-series-at-the-maplewood-springfield-ave-gazebo/
LOCATION:Springfield Avenue Gazebo\, 1662 Springfield Ave\, Maplewood\, New Jersey\, 07040\, United States
CATEGORIES:Art and Entertainment,Live Music,MAPSO,RnB,SOMA,SOMAPSO,Sunday Jazz
ATTACH;FMTTYPE=image/jpeg:https://gregoryburrusproductions.com/wp-content/uploads/2025/07/2_20250725_185701_0001.jpg
END:VEVENT
END:VCALENDAR