BEGIN:VCALENDAR
VERSION:2.0
PRODID:-//Gregory Burrus Productions - ECPv6.15.20//NONSGML v1.0//EN
CALSCALE:GREGORIAN
METHOD:PUBLISH
X-WR-CALNAME:Gregory Burrus Productions
X-ORIGINAL-URL:https://gregoryburrusproductions.com
X-WR-CALDESC:Events for Gregory Burrus Productions
REFRESH-INTERVAL;VALUE=DURATION:PT1H
X-Robots-Tag:noindex
X-PUBLISHED-TTL:PT1H
BEGIN:VTIMEZONE
TZID:America/New_York
BEGIN:DAYLIGHT
TZOFFSETFROM:-0500
TZOFFSETTO:-0400
TZNAME:EDT
DTSTART:20250309T070000
END:DAYLIGHT
BEGIN:STANDARD
TZOFFSETFROM:-0400
TZOFFSETTO:-0500
TZNAME:EST
DTSTART:20251102T060000
END:STANDARD
BEGIN:DAYLIGHT
TZOFFSETFROM:-0500
TZOFFSETTO:-0400
TZNAME:EDT
DTSTART:20260308T070000
END:DAYLIGHT
BEGIN:STANDARD
TZOFFSETFROM:-0400
TZOFFSETTO:-0500
TZNAME:EST
DTSTART:20261101T060000
END:STANDARD
BEGIN:DAYLIGHT
TZOFFSETFROM:-0500
TZOFFSETTO:-0400
TZNAME:EDT
DTSTART:20270314T070000
END:DAYLIGHT
BEGIN:STANDARD
TZOFFSETFROM:-0400
TZOFFSETTO:-0500
TZNAME:EST
DTSTART:20271107T060000
END:STANDARD
END:VTIMEZONE
BEGIN:VEVENT
DTSTART;TZID=America/New_York:20260420T193000
DTEND;TZID=America/New_York:20260420T213000
DTSTAMP:20260425T203605
CREATED:20260331T223907Z
LAST-MODIFIED:20260401T030014Z
UID:10002664-1776713400-1776720600@gregoryburrusproductions.com
SUMMARY:IJS Presents  JAZZ HOUSE KIDS BIG BAND w/BRUCE WILLIAMS
DESCRIPTION:Register on Eventbrite\n\nJazz House Kids Big Band teams with acclaimed saxophonist Bruce Williams for a dynamic\, hard‑swinging performance.\n\n\n \nThe next generation of jazz lights up the stage as Jazz House Kids Big Band joins saxophonist Bruce Williams for an electrifying night. \nIJS proudly presents the powerhouse Jazz House Kids Big Band featuring acclaimed saxophonist Bruce Williams\, bringing an unforgettable night of swing\, soul\, and next‑generation jazz excellence. This dynamic ensemble showcases some of the region’s most gifted young musicians\, guided by one of today’s leading voices on the alto sax. Expect high‑energy charts\, big‑band fire\, and the vibrant spirit that defines the Jazz House legacy. \n \nABOUT BRUCE \nBruce Williams is a versatile saxophone stylist\, performing in a variety of diverse playing environments – from traditional to hip-hop to the avant-garde who hails from our nation’s capital of Washington\, D.C. He has made his presence known on the jazz scene by garnering critical attention with his own enthusiastically received CD releases – “Brotherhood” and “Altoicity” – issued on Savant Records. He has been an honored recipient of awards from DownBeat magazine and The Charlie Parker Music and the More Foundation. His ability to perform masterfully in a range of jazz styles has placed him on two Grammy nominated recordings and sent him to numerous cities throughout the US and abroad in France\, Italy\, Germany\, Scandinavia\, the West Indies\, Lebanon\, and Japan. \nBruce has also made an indelible impression as a sideman on over twenty other CD and video recordings and has performed\, toured\, and recorded with a long roster of jazz legends – Little Jimmy Scott\, Frank Foster\, The Lincoln Center Jazz Orchestra\, Stanley Cowell\, Louis Smith\, Cecil Brooks III\, The Count Basie Orchestra\, The World Saxophone Quartet\, Russell Gunn\, Curtis Fuller\, and Roy Hargrove to name a few. \nA noted jazz educator and mentor to young jazz musicians; Bruce has given master classes at Ohio State\, Iowa State\, The Jazz Institute of New Jersey\, The University of the District of Columbia\, Princeton University\, The New Jersey Performing Arts Center “Jazz For Teens” program\, and the Paris Conservatory in France. He has served as adjunct saxophone instructor at both the New School for Social Research (Mannes School of Music) in NYC\, Princeton\, and William Paterson Universities in New Jersey while continuing to nurture a healthy rooster of private students of his own. \nAll of the above experiences have aided Bruce Williams in becoming one of the premier jazz alto and soprano saxophonists in the world today. \nWeblinks: \nhttp://www.jazzconnect.com/brucewilliams/ \n*************************************************************************************** \nCheck out the livestream on the Clement’s Place Jazz and IJS Facebook pages and on our YouTube channel – \nhttps://www.facebook.com/events/407513298157352/?ref=newsfeed \nhttps://www.youtube.com/channel/UCf8W7q1qlz0yt5Ebcn4tkSQ \nhttps://www.facebook.com/InstituteJazzStudies
URL:https://gregoryburrusproductions.com/event/ijs-presents-jazz-house-kids-big-band-w-bruce-williams/
LOCATION:Clement’s Place\, 15 Washington Street\, Newark\, NJ\, 07102\, United States
ATTACH;FMTTYPE=image/jpeg:https://gregoryburrusproductions.com/wp-content/uploads/2026/03/eb954155abfca4e1f1afcee7afb9c863-JKF3OW.tmp_.jpg
END:VEVENT
BEGIN:VEVENT
DTSTART;TZID=America/New_York:20260422T193000
DTEND;TZID=America/New_York:20260422T220000
DTSTAMP:20260425T203605
CREATED:20260331T223908Z
LAST-MODIFIED:20260401T030332Z
UID:10002665-1776886200-1776895200@gregoryburrusproductions.com
SUMMARY:Rutgers IJS Presents  Pianist Composer Educator Michael Cochrane
DESCRIPTION:Register on Eventbrite\n\nMichael Cochrane is a masterful jazz pianist whose five‑decade career has made him one of the most respected creative voices in the area.\n\n\n Michael Cochrane\n\nPianist • Composer • Educator • Modern Jazz Craftsman \nMichael Cochrane is a masterful jazz pianist whose five‑decade career has made him one of the most respected creative voices in the New York–New Jersey jazz community. Born in Peekskill\, NY\, Cochrane has recorded extensively as both a leader and sideman\, contributing to major labels including SteepleChase\, Soul Note\, and Landmark Records. His artistry blends harmonic sophistication\, lyrical sensitivity\, and a deep commitment to the jazz tradition. \nCochrane has performed and recorded with an extraordinary roster of jazz greats\, including Sonny Fortune\, Jack Walrath\, Eddie Gomez\, Clark Terry\, Michael Brecker\, Chico Freeman\, Oliver Lake\, and the Spirit of Life Ensemble. His résumé spans iconic venues such as The Village Vanguard\, Dizzy’s Club Coca‑Cola\, The Blue Note\, Carnegie Hall\, and international tours across Europe\, Canada\, Japan\, Puerto Rico\, Greece\, Russia\, the Philippines\, and the Caribbean. \nA dedicated educator\, Cochrane holds a Master of Arts in Music and Music Education from New York University and has taught at Rutgers University\, Princeton University\, the Bloomingdale School of Music\, and the JCC Thurnauer School of MusicJazzInfo. He has also authored several books of piano instruction published by Second Floor Music and Hal Leonard. \nWith over ten albums as a leader and a lifetime of contributions to the music\, Michael Cochrane continues to inspire audiences with performances that are thoughtful\, swinging\, and deeply expressive — a true modern jazz craftsman. \n \nPresented by the Institute of Jazz Studies at Rutgers University\, this performance is part of their ongoing commitment to celebrating jazz heritage and supporting emerging voices in the genre.
URL:https://gregoryburrusproductions.com/event/rutgers-ijs-presents-pianist-composer-educator-michael-cochrane-2/
LOCATION:Clement’s Place\, 15 Washington Street\, Newark\, NJ\, 07102\, United States
ATTACH;FMTTYPE=image/jpeg:https://gregoryburrusproductions.com/wp-content/uploads/2025/12/4bae7bc336d554d9e7287fced8a7d400-qhkIiM.tmp_.jpg
END:VEVENT
BEGIN:VEVENT
DTSTART;TZID=America/New_York:20260423T193000
DTEND;TZID=America/New_York:20260423T223000
DTSTAMP:20260425T203605
CREATED:20251007T015134Z
LAST-MODIFIED:20251128T233749Z
UID:10002548-1776972600-1776983400@gregoryburrusproductions.com
SUMMARY:Rutgers IJS Presents Greg Burrus Community Jam feat Jerry Weldon / New Brunswick Jazz Project at Clements Place
DESCRIPTION:THURSDAY 4/23 – GREG BURRUS COMMUNITY JAZZ JAM FEAT JERRY WELDON / New Brunswick Jazz Project AT CLEMENTS PLACE \n\n\n\n\n\nRSVP link coming soon\n\n\n\n\n\n\n\nJerry Weldon – Tenor Titan of the Jazz Scene \n\n\n\nInternationally acclaimed saxophonist Jerry Weldon has been a commanding force in jazz for over four decades. Born in New York City on September 27\, 1957\, Weldon’s journey began with a spark—ignited at age 14 when his father took him to see Stan Getz at the Village Vanguard. That moment set the course for a life steeped in swing\, soul\, and bebop brilliance. \n\n\n\nA graduate of the Rutgers University Jazz Studies Program\, Weldon launched his professional career in 1981 with the legendary Lionel Hampton Orchestra\, continuing his tenure with Hamp into the new millennium. He then joined Jack McDuff’s Heatin’ System\, cementing his reputation as a go-to tenor for organ-driven grooves. \n\n\n\nWeldon’s résumé reads like a jazz hall of fame: he’s collaborated with Jimmy McGriff\, Joey DeFrancesco\, Dr. Lonnie Smith\, George Benson\, Mel Tormé\, Roy Haynes\, and Cedar Walton\, among countless others. In 1990\, he became a charter member and featured soloist in Harry Connick Jr.’s big band\, touring globally and appearing in Connick’s Broadway production Thou Shalt Not and daytime TV show HARRY. \n\n\n\nWith eight albums as a leader—including On the Move\, which charted on JazzWeek—Weldon continues to perform worldwide\, captivating audiences with his warm\, thunderous tone and magnetic stage presence. Whether roaring through uptempo burners or caressing ballads with velvet finesse\, Jerry Weldon is a tenor force who brings the music to life—and the audience along for the ride.
URL:https://gregoryburrusproductions.com/event/rutgers-ijs-presents-greg-burrus-community-jam-feat-jerry-weldon-new-brunswick-jazz-project-at-clements-place/
LOCATION:Clements Place Jazz IJS – Ruth Bader Ginsburg Building\, 15 Washington Street\, Newark\, NJ\, United States
CATEGORIES:Art and Entertainment,Clements Place Jazz,Jazz
ATTACH;FMTTYPE=image/png:https://gregoryburrusproductions.com/wp-content/uploads/2025/10/Gregory-Burrus-Community-Jam-Poster-Jerry-Weldon-1-1.png
END:VEVENT
BEGIN:VEVENT
DTSTART;TZID=America/New_York:20260424T193000
DTEND;TZID=America/New_York:20260424T220000
DTSTAMP:20260425T203605
CREATED:20260412T015424Z
LAST-MODIFIED:20260412T015427Z
UID:10002675-1777059000-1777068000@gregoryburrusproductions.com
SUMMARY:Rutgers IJS Presents Andrea Brachfeld
DESCRIPTION:Andrea Brachfeld brings her vibrant flute voice back to the Newark and NYC scene on April 24 with a special performance at Clements Place Jazz\, joined by her longtime musical partners Bill O’Connell (piano)\, Harvie S (bass)\, and Jason Tiemann (drums). From 7:30 to 10:00 PM\, audiences can expect an evening of deep swing\, lyrical improvisation\, and the kind of musical chemistry that only comes from years of collaboration. Admission is free\,   Photo by Richard Ryles. \n\n\nRegister on Eventbrite\n\n\nAndrea Brachfeld — Flutist\, Composer\, Bandleader\n\n\n\nAndrea Brachfeld stands as one of the most influential and innovative flutists in modern jazz. With a career that spans decades and crosses genres\, she has carved out a singular voice defined by lyrical phrasing\, fearless improvisation\, and a deep connection to both Latin jazz and straight‑ahead traditions. Andrea first gained national attention as the flutist for the groundbreaking Latin jazz ensemble Charanga ’76\, and she has since recorded numerous acclaimed albums as a leader\, collaborating with some of the most respected musicians in the world. Her performances are marked by emotional clarity\, rhythmic fire\, and a spiritual openness that draws audiences in from the first note. Whether on festival stages\, intimate clubs\, or educational platforms\, Andrea continues to push the boundaries of her instrument while honoring the lineage of the music she loves. \n\n\n\nBill O’Connell — Pianist\, Composer\, Arranger\n\n\n\nBill O’Connell is a powerhouse pianist whose artistry bridges the worlds of straight‑ahead jazz and Afro‑Caribbean traditions with effortless fluency. A longtime collaborator with legends such as Mongo Santamaría\, Dave Valentin\, and Conrad Herwig\, Bill has developed a signature style that blends harmonic sophistication\, rhythmic intensity\, and melodic clarity. His touch at the piano is both commanding and sensitive\, capable of explosive energy one moment and introspective nuance the next. As a composer and arranger\, he has contributed a rich body of work that continues to influence contemporary Latin jazz. Onstage\, Bill brings a deep sense of swing\, a fearless improvisational spirit\, and a musical intelligence that elevates every ensemble he joins. \n\n\n\nHarvie S — Bassist\, Composer\, Educator\n\n\n\nHarvie S is a celebrated bassist whose warm tone\, impeccable time\, and melodic sensibility have made him a first‑call musician for more than four decades. His career includes collaborations with iconic artists such as Sheila Jordan\, Jim Hall\, Stan Getz\, and Toots Thielemans\, as well as an extensive catalog of recordings as both leader and sideman. Harvie’s playing is rooted in deep listening — he shapes the music from the inside out\, supporting\, guiding\, and inspiring the musicians around him. Beyond performance\, he is a respected educator who has mentored generations of young artists. Whether in acoustic trio settings\, Latin jazz ensembles\, or modern improvisational groups\, Harvie brings a level of artistry and experience that enriches every musical moment. \n\n\n\nJason Tiemann — Drummer\, Educator\, Ensemble Specialist\n\n\n\nJason Tiemann is a dynamic drummer known for his precision\, versatility\, and deep respect for the jazz tradition. Originally from the Midwest and now a fixture on the New York scene\, Jason has performed with a wide range of artists including Benny Golson\, Eric Alexander\, Mike LeDonne\, and Peter Bernstein. His playing is marked by clarity of time\, crisp articulation\, and a refined sense of swing that anchors any ensemble he joins. Jason’s approach blends technical mastery with a sensitive musical touch\, allowing him to move seamlessly from high‑energy modern jazz to subtle\, brush‑driven ballads. In addition to his performance career\, he is a dedicated educator whose teaching emphasizes musicality\, discipline\, and the craft of ensemble playing.
URL:https://gregoryburrusproductions.com/event/rutgers-ijs-presents-andrea-brachfeld/
LOCATION:Clements Place Jazz IJS – Ruth Bader Ginsburg Building\, 15 Washington Street\, Newark\, NJ\, United States
ATTACH;FMTTYPE=image/jpeg:https://gregoryburrusproductions.com/wp-content/uploads/2026/04/Andrea.jpg
END:VEVENT
BEGIN:VEVENT
DTSTART;TZID=America/New_York:20260425T080000
DTEND;TZID=America/New_York:20260425T170000
DTSTAMP:20260425T203605
CREATED:20260413T222002Z
LAST-MODIFIED:20260413T222134Z
UID:10002676-1777104000-1777136400@gregoryburrusproductions.com
SUMMARY:RUTGERS IJS Presents Dick Griffin Big Band
DESCRIPTION:RUTGERS IJS Presents Dick Griffin Big Band\n\n\nRegister on Eventbrite\n\n\n\n\nGet ready for a powerhouse night of live jazz as the legendary trombonist Dick Griffin brings his full Big Band to Express Newark . Experience soaring brass\, deep swing\, spiritual grooves\, and the unmistakable sound of one of jazz’s most innovative voices. This is big‑band energy at its finest—bold\, soulful\, and electrifying. Whether you’re a lifelong jazz lover or just craving a vibrant night out\, this performance delivers the kind of musical magic you feel in your chest. Don’t miss the chance to witness a true master leading an ensemble built to blow the roof off. \n\n\n\nDick Griffin Big Band\n\n\n\nThe Dick Griffin Big Band is the powerful large‑ensemble project led by trombone master Dick Griffin\, one of the most innovative and soulful voices in modern jazz. A veteran of bands led by Rahsaan Roland Kirk\, Sun Ra\, Charles Mingus\, Duke Ellington\, Count Basie\, Ella Fitzgerald\, Tito Puente\, and more\, Griffin brings a lifetime of musical mastery to the big‑band tradition. \n\n\n\nKnown for his signature technique “circular phonics”—a fusion of circular breathing and multiphonics—Griffin creates a sound that is bold\, spiritual\, and unmistakably his own. His Big Band channels the full spectrum of Black American music: deep swing\, gospel fire\, blues roots\, and adventurous improvisation shaped by decades on the world stage. \n\n\n\nFeaturing top New York musicians and Griffin’s dynamic original arrangements\, the Dick Griffin Big Band delivers a high‑energy\, soul‑charged experience that honors the past while pushing the music forward. This is big‑band jazz at its most vibrant\, expressive\, and alive.
URL:https://gregoryburrusproductions.com/event/rutgers-ijs-presents-dick-griffin-big-band/
LOCATION:EXPRESS NEWARK\, 54 HALSEY STREET\, Newark\, New Jersey\, 07102\, United States
ATTACH;FMTTYPE=image/jpeg:https://gregoryburrusproductions.com/wp-content/uploads/2026/04/20250425-Dick-Griffth-Big-Band.jpg
END:VEVENT
BEGIN:VEVENT
DTSTART;TZID=America/New_York:20260426T113000
DTEND;TZID=America/New_York:20260426T130000
DTSTAMP:20260425T203605
CREATED:20260419T113648Z
LAST-MODIFIED:20260419T113651Z
UID:10002680-1777203000-1777208400@gregoryburrusproductions.com
SUMMARY:Carrie Jackson & Jazzin’ All Stars Band
DESCRIPTION:Jesus & Jazz Presents: Carrie Jackson & Her Jazzin’ All Stars — A Soul‑Stirring Morning of Music\, Faith\, and Community \n\n\n\nJoin us for an inspiring Jesus and Jazz Service featuring the legendary Carrie Jackson & her Jazzin’ All Stars\, bringing their powerful blend of gospel spirit\, jazz tradition\, and soulful storytelling to our community. This uplifting service continues the beloved Jesus & Jazz tradition of uniting music\, ministry\, and fellowship in a joyful Sunday experience. \n\n\n\nLed by the dynamic Rev. Eyesha Marable\, this special gathering invites you to immerse yourself in smooth vibes\, heartfelt praise\, and world‑class musicianship that lifts the spirit and brings people together. Whether you’re a jazz lover\, a worshipper\, or simply seeking a meaningful community moment\, this service offers a morning of joy\, connection\, and inspired sound. \n\n\nRegister on Eventbrite\n\n\nAbout Carrie Jackson & Her Jazzin’ All Stars\n\n\n\nExperience the artistry of an ensemble known for its swing\, soul\, and sacred‑jazz excellence: \n\n\n\n\nCarrie Jackson — vocals A powerhouse vocalist celebrated for her warm tone\, expressive phrasing\, and deep roots in jazz and gospel traditions.\n\n\n\nKatie Cosco — piano A versatile pianist whose elegant touch and harmonic creativity anchor the group’s sound.\n\n\n\nTakashi Otsuka — bass Known for his rich tone and steady groove\, bringing depth and resonance to every performance.\n\n\n\nGreg Bufford — drums A dynamic drummer whose rhythmic drive and sensitivity elevate the ensemble’s swing and spirit.\n\n\n\n\nTogether\, they create a musical experience that is both soulful and electrifying\, perfect for the Jesus & Jazz worship atmosphere. \n\n\n\nWhy This Jesus & Jazz Service Is Special\n\n\n\n\nA unique blend of jazz\, gospel\, and community worship\n\n\n\nSpirit‑filled leadership from Rev. Eyesha Marable\n\n\n\nA chance to gather with friends\, neighbors\, and music lovers\n\n\n\nAn uplifting Sunday morning filled with joy\, artistry\, and connection\n\n\n\n\nBring your friends\, family\, and anyone who loves good music\, great company\, and meaningful community moments. Come soak in the magic of jazz performed by some of the most talented artists in the region. \n\n\n\n  \n\n\n\nJesus & Jazz  Monthly Service:\n\n\n\nJesus & Jazz is held on the 4th Sunday of every month\, led by Rev. Eyesha Marable of Mt. Zion AME Church with music minister Phil Bingham \, offering a unique mix of live jazz\, gospel spirit\, and community worship that has become a signature part of our monthly programming — curated by Gregory Burrus.
URL:https://gregoryburrusproductions.com/event/carrie-jackson-jazzin-all-stars-band-2/
LOCATION:Clements Place Jazz IJS – Ruth Bader Ginsburg Building\, 15 Washington Street\, Newark\, NJ\, United States
ATTACH;FMTTYPE=image/jpeg:https://gregoryburrusproductions.com/wp-content/uploads/2026/04/Jesus-and-Jazz-April-26-2026.jpg
END:VEVENT
BEGIN:VEVENT
DTSTART;TZID=America/New_York:20260426T160000
DTEND;TZID=America/New_York:20260426T193000
DTSTAMP:20260425T203605
CREATED:20260408T184422Z
LAST-MODIFIED:20260412T022038Z
UID:10002674-1777219200-1777231800@gregoryburrusproductions.com
SUMMARY:4/26 International Jazz Day 2026 at NJPAC — A Free Celebration of the Next Generation of Jazz
DESCRIPTION:On Sunday\, April 26\, 2026\, the global spirit of International Jazz Day comes alive at NJPAC’s Chase Room with a powerful\, joy‑filled celebration presented by NJPAC and JAZZ HOUSE KiDS. This free community event shines a spotlight on the future of jazz — the young artists\, emerging ensembles\, and rising stars who are carrying the music forward with passion\, creativity\, and purpose. \n\n\n\nHosted by the legendary WBGO’s Sheila Anderson\, this afternoon brings together some of the region’s most exciting youth jazz ensembles\, including: \n\n\n\n\nRiverdale Country School (Bronx\, NY)\n\n\n\nValley Jazz Orchestra (Annville\, PA)\n\n\n\nJAZZ HOUSE KiDS\n\n\n\nNJPAC’s TD Jazz for Teens\n\n\n\n\nThese talented young musicians will fill the room with swing\, soul\, improvisation\, and the kind of fearless musical energy that reminds us why jazz continues to inspire the world. \n\n\n\nAnd that’s not all — the celebration features special guest performances by: \n\n\n\n\nLance Bryant & Shout\n\n\n\nStefon Harris\, internationally acclaimed vibraphonist and educator\n\n\n\n\nTogether\, they’ll elevate the afternoon with artistry that bridges generations and honors the global mission of International Jazz Day: unity\, creativity\, and community through music. \n\n\n\n \n\n\n\n\n\n\n\nWhy This Event Matters\n\n\n\nInternational Jazz Day is the world’s largest celebration of jazz — a day when artists\, educators\, and communities across the globe unite through music. NJPAC’s celebration stands out because it centers the next generation\, giving young musicians a world‑class stage and connecting them with master artists who inspire and uplift. \n\n\n\nThis is more than a concert — it’s a cultural moment\, a community gathering\, and a powerful reminder that jazz continues to evolve\, thrive\, and move the world. \n\n\n\nBe Part of the Celebration\n\n\n\nBring your family\, your friends\, your jazz lovers\, and your community. Come ready to clap\, cheer\, and witness the future of jazz in Newark’s most intimate performance space. \n\n\n\nEvent Details\n\n\n\n Presented by: NJPAC & JAZZ HOUSE KiDS  \n\n\n\nHosted by: WBGO’s Sheila Anderson  \n\n\n\nAdmission: Free (RSVP strongly recommended) \n\n\n\nSeats are limited — RSVP early and join us for an unforgettable International Jazz Day celebration \n\n\n\nhttps://www.njpac.org/event/international-day-of-jazz-2026 \n\n\n\n\n\n\n\n\n\n\n\nLearn More NJPAC Jazz Advisory Committee
URL:https://gregoryburrusproductions.com/event/4-26-international-jazz-day-2026-at-njpac-a-free-celebration-of-the-next-generation-of-jazz/
LOCATION:New Jersey Performing Arts Center (NJPAC)\, 1 Center Street\, Newark\, New Jersey\, 07102\, United States
ATTACH;FMTTYPE=image/jpeg:https://gregoryburrusproductions.com/wp-content/uploads/2026/04/international-jazz-day-njpac-2026-gfregory-burrus-productions-1-2.jpg
END:VEVENT
END:VCALENDAR