BEGIN:VCALENDAR
VERSION:2.0
PRODID:-//Gregory Burrus Productions - ECPv6.15.20//NONSGML v1.0//EN
CALSCALE:GREGORIAN
METHOD:PUBLISH
X-ORIGINAL-URL:https://gregoryburrusproductions.com
X-WR-CALDESC:Events for Gregory Burrus Productions
REFRESH-INTERVAL;VALUE=DURATION:PT1H
X-Robots-Tag:noindex
X-PUBLISHED-TTL:PT1H
BEGIN:VTIMEZONE
TZID:America/New_York
BEGIN:DAYLIGHT
TZOFFSETFROM:-0500
TZOFFSETTO:-0400
TZNAME:EDT
DTSTART:20210314T070000
END:DAYLIGHT
BEGIN:STANDARD
TZOFFSETFROM:-0400
TZOFFSETTO:-0500
TZNAME:EST
DTSTART:20211107T060000
END:STANDARD
BEGIN:DAYLIGHT
TZOFFSETFROM:-0500
TZOFFSETTO:-0400
TZNAME:EDT
DTSTART:20220313T070000
END:DAYLIGHT
BEGIN:STANDARD
TZOFFSETFROM:-0400
TZOFFSETTO:-0500
TZNAME:EST
DTSTART:20221106T060000
END:STANDARD
BEGIN:DAYLIGHT
TZOFFSETFROM:-0500
TZOFFSETTO:-0400
TZNAME:EDT
DTSTART:20230312T070000
END:DAYLIGHT
BEGIN:STANDARD
TZOFFSETFROM:-0400
TZOFFSETTO:-0500
TZNAME:EST
DTSTART:20231105T060000
END:STANDARD
END:VTIMEZONE
BEGIN:VEVENT
DTSTART;TZID=America/New_York:20220506T170000
DTEND;TZID=America/New_York:20220506T190000
DTSTAMP:20260420T045846
CREATED:20220503T060942Z
LAST-MODIFIED:20220503T060943Z
UID:10000117-1651856400-1651863600@gregoryburrusproductions.com
SUMMARY:Jazz in the Community for Your Social Wellbeing featuring the Dynamic and Powerful Dre Barnes Quartet
DESCRIPTION:Time to come out to meet and greet with friends\, family\, neighbors and jazz lovers. A time to affirm… this is an event to build wholeness in our community! Please join us as the music will be swinging and slammin. \n\n\n\n\n\n\n\n\n\n \n\n\n\n \n\n\n\n\n\n\n\n\nShare this:\n				Share on X (Opens in new window)\n				X\n			\n				Share on Facebook (Opens in new window)\n				Facebook\n			\n				Share on Tumblr (Opens in new window)\n				Tumblr\n			\n				Email a link to a friend (Opens in new window)\n				Email\n			More\n				Share on Pinterest (Opens in new window)\n				Pinterest\n			\n				Share on LinkedIn (Opens in new window)\n				LinkedIn\n			\n				Share on Reddit (Opens in new window)\n				Reddit\n			Like this:Like Loading...
URL:https://gregoryburrusproductions.com/event/jazz-in-the-community-for-your-social-wellbeing-featuring-the-dynamic-and-powerful-dre-barnes-quartet/
LOCATION:Feldman Middleton Jr. Community Center\, 92 Thomas Carmichael Dr\,\, Newark\, New Jersey\, 07040\, United States
CATEGORIES:Jazz,Live Music
ATTACH;FMTTYPE=image/jpeg:https://gregoryburrusproductions.com/wp-content/uploads/2022/05/Dre-Barnes-Band-Wequhaic-Park-produced-by-Gregory-Burrus-Productions.jpg
ORGANIZER;CN="Gregory Burrus Productions":MAILTO:answers@techoss.com
END:VEVENT
END:VCALENDAR