BEGIN:VCALENDAR
VERSION:2.0
PRODID:-//Gregory Burrus Productions - ECPv6.15.20//NONSGML v1.0//EN
CALSCALE:GREGORIAN
METHOD:PUBLISH
X-ORIGINAL-URL:https://gregoryburrusproductions.com
X-WR-CALDESC:Events for Gregory Burrus Productions
REFRESH-INTERVAL;VALUE=DURATION:PT1H
X-Robots-Tag:noindex
X-PUBLISHED-TTL:PT1H
BEGIN:VTIMEZONE
TZID:America/New_York
BEGIN:DAYLIGHT
TZOFFSETFROM:-0500
TZOFFSETTO:-0400
TZNAME:EDT
DTSTART:20220313T070000
END:DAYLIGHT
BEGIN:STANDARD
TZOFFSETFROM:-0400
TZOFFSETTO:-0500
TZNAME:EST
DTSTART:20221106T060000
END:STANDARD
BEGIN:DAYLIGHT
TZOFFSETFROM:-0500
TZOFFSETTO:-0400
TZNAME:EDT
DTSTART:20230312T070000
END:DAYLIGHT
BEGIN:STANDARD
TZOFFSETFROM:-0400
TZOFFSETTO:-0500
TZNAME:EST
DTSTART:20231105T060000
END:STANDARD
BEGIN:DAYLIGHT
TZOFFSETFROM:-0500
TZOFFSETTO:-0400
TZNAME:EDT
DTSTART:20240310T070000
END:DAYLIGHT
BEGIN:STANDARD
TZOFFSETFROM:-0400
TZOFFSETTO:-0500
TZNAME:EST
DTSTART:20241103T060000
END:STANDARD
END:VTIMEZONE
BEGIN:VEVENT
DTSTART;TZID=America/New_York:20230831T180000
DTEND;TZID=America/New_York:20230831T220000
DTSTAMP:20260420T045723
CREATED:20230725T005521Z
LAST-MODIFIED:20230830T004959Z
UID:10000369-1693504800-1693519200@gregoryburrusproductions.com
SUMMARY:Jazz On The Green featuring Meant To Be Jazz Quartet and the Lynette Sheard Experience
DESCRIPTION:Please join us! \n\n\n\nEssex County Board of County Commissioners presents free Jazz o the Green in Newark’s Veterans Memorial Park.  \n\n\n\n\n\n\n\n\n\nLive Music Events  \n\n\n\n6:00 – 7:45 PM Meant To Be Quartet led by Glenn Merritt on Piano\, Pete Omelio on Drums\, Alan Hayes on Bass and John Higgins on Trumpet. \n\n\n\n8:00 – 10:00 PM Lynette Sheard Live Experience featuring her Trio. .  \n\n\n\nAdmission is free and open to the public – registration not required to attend but register and let us know you coming. \n\n\nRegister on Eventbrite\n\n\nThis family friendly event is organized by Essex County Commissioners and Gregory Burrus Productions. \n\n\n\nFree Open to the Public. Click let us know you coming.  \n\n\n\n\n\n \n\n\n\n\n\n\n\n\nShare this:\n				Share on X (Opens in new window)\n				X\n			\n				Share on Facebook (Opens in new window)\n				Facebook\n			\n				Share on Tumblr (Opens in new window)\n				Tumblr\n			\n				Email a link to a friend (Opens in new window)\n				Email\n			More\n				Share on Pinterest (Opens in new window)\n				Pinterest\n			\n				Share on LinkedIn (Opens in new window)\n				LinkedIn\n			\n				Share on Reddit (Opens in new window)\n				Reddit\n			Like this:Like Loading...
URL:https://gregoryburrusproductions.com/event/essex-county-board-of-county-commissioners-presents-free-jazz-in-newarks-veterans-memorial-park/
LOCATION:Veterans Memorial Park\, W Market St & Wickliffe Street\, Newark\, New Jersey\, 07102\, United States
CATEGORIES:Blues,Jazz,Live Music
ATTACH;FMTTYPE=image/jpeg:https://gregoryburrusproductions.com/wp-content/uploads/2023/07/Jazz-on-the-green-w-gregory-burrus-productions.jpg
END:VEVENT
END:VCALENDAR